FILENAME: O4811024.NWS.1115129.tif
QUADRANGLE_NAME: SADDLE BUTTE
QUADRANT: NW
WEST_LONGITUDE: -110 7 30.00000
EAST_LONGITUDE: -110 3 45.00000
NORTH_LATITUDE: 48 45 0.00000
SOUTH_LATITUDE: 48 41 15.00000
PRODUCTION_DATE: 2000 11 8
RASTER_ORDER: LEFT_RIGHT/TOP_BOTTOM
BAND_ORGANIZATION: SINGLE FILE
BAND_CONTENT: BLACK&WHITE
BAND_CONTENT: UNDEFINED
BAND_CONTENT: UNDEFINED
BITS_PER_PIXEL: 8
SAMPLES_AND_LINES: 5339 7605
HORIZONTAL_DATUM: NAD83
HORIZONTAL_COORDINATE_SYSTEM: UTM
COORDINATE_ZONE: 12
HORIZONTAL_UNITS: METERS
HORIZONTAL_RESOLUTION: 1.00000
SECONDARY_HORIZONTAL_DATUM: NAD27
XY_ORIGIN: 563961.00000 5400389.00000
SECONDARY_XY_ORIGIN: 564019.27300 5400170.56600
NATION: US
NATION: "SCIENCE
STATE: MT
NW_QUAD_CORNER_XY: 564319.08300 5400034.33600
NE_QUAD_CORNER_XY: 568913.25200 5400088.97400
SE_QUAD_CORNERY_XY: 568998.68500 5393141.60600
SW_QUAD_CORNER_XY: 564398.82000 5393086.95200
SECONDARY_NW_QUAD_XY: 564321.13900 5399815.35000
SECONDARY_NE_QUAD_XY: 568915.45400 5399869.98900
SECONDARY_SE_QUAD_XY: 569000.88700 5392922.62600
SECONDARY_SW_QUAD_XY: 564400.87500 5392867.97100
RMSE_XY: 1.60000
IMAGE_SOURCE: BLACK AND WHITE FILM
SOURCE_IMAGE_ID: NAPP 9178 247
SOURCE_IMAGE_DATE: 1997 09 04
SOURCE_DEM_DATE: 1993 00 00
AGENCY: WESTERN MAPPING CENTER (WMC)
PRODUCER: UNDEFINED
PRODUCTION_SYSTEM: GIS/MAGIC
COMPRESSION: UNDEFINED
STANDARD_VERSION: 1996 12
METADATA_DATE: 2000 11 29
DATA_FILE_SIZE: 40608434
BYTE_COUNT: 5339
