FILENAME: O4811024.SES.1115130.tif
QUADRANGLE_NAME: SADDLE BUTTE
QUADRANT: SE
WEST_LONGITUDE: -110 3 45.00000
EAST_LONGITUDE: -110 0 0.00000
NORTH_LATITUDE: 48 41 15.00000
SOUTH_LATITUDE: 48 37 30.00000
PRODUCTION_DATE: 2000 10 12
RASTER_ORDER: LEFT_RIGHT/TOP_BOTTOM
BAND_ORGANIZATION: SINGLE FILE
BAND_CONTENT: BLACK&WHITE
BAND_CONTENT: UNDEFINED
BAND_CONTENT: UNDEFINED
BITS_PER_PIXEL: 8
SAMPLES_AND_LINES: 5350 7610
HORIZONTAL_DATUM: NAD83
HORIZONTAL_COORDINATE_SYSTEM: UTM
COORDINATE_ZONE: 12
HORIZONTAL_UNITS: METERS
HORIZONTAL_RESOLUTION: 1.00000
SECONDARY_HORIZONTAL_DATUM: NAD27
XY_ORIGIN: 568641.00000 5393501.00000
SECONDARY_XY_ORIGIN: 568699.44000 5393282.80900
NATION: US
NATION: "SCIENCE
STATE: MT
NW_QUAD_CORNER_XY: 568998.68500 5393141.60600
NE_QUAD_CORNER_XY: 573598.54000 5393200.02900
SE_QUAD_CORNERY_XY: 573689.58100 5386252.75000
SW_QUAD_CORNER_XY: 569084.03500 5386194.31100
SECONDARY_NW_QUAD_XY: 569000.88700 5392922.62600
SECONDARY_NE_QUAD_XY: 573600.88900 5392981.05100
SECONDARY_SE_QUAD_XY: 573691.93000 5386033.77800
SECONDARY_SW_QUAD_XY: 569086.23700 5385975.33700
RMSE_XY: 1.70000
IMAGE_SOURCE: BLACK AND WHITE FILM
SOURCE_IMAGE_ID: NAPP 9178 224
SOURCE_IMAGE_DATE: 1997 09 04
SOURCE_IMAGE_ID: NAPP 9178 225
SOURCE_IMAGE_DATE: 1997 09 04
SOURCE_DEM_DATE: 1993 00 00
AGENCY: WESTERN MAPPING CENTER (WMC)
PRODUCER: UNDEFINED
PRODUCTION_SYSTEM: GIS/MAGIC
COMPRESSION: UNDEFINED
STANDARD_VERSION: 1996 12
METADATA_DATE: 2000 11 29
DATA_FILE_SIZE: 40718850
BYTE_COUNT: 5350
