FILENAME: O4811023.SES.1115106.tif
QUADRANGLE_NAME: DRY LAKE
QUADRANT: SE
WEST_LONGITUDE: -110 11 15.00000
EAST_LONGITUDE: -110 7 30.00000
NORTH_LATITUDE: 48 41 15.00000
SOUTH_LATITUDE: 48 37 30.00000
PRODUCTION_DATE: 2000 10 13
RASTER_ORDER: LEFT_RIGHT/TOP_BOTTOM
BAND_ORGANIZATION: SINGLE FILE
BAND_CONTENT: BLACK&WHITE
BAND_CONTENT: UNDEFINED
BAND_CONTENT: UNDEFINED
BITS_PER_PIXEL: 8
SAMPLES_AND_LINES: 5339 7602
HORIZONTAL_DATUM: NAD83
HORIZONTAL_COORDINATE_SYSTEM: UTM
COORDINATE_ZONE: 12
HORIZONTAL_UNITS: METERS
HORIZONTAL_RESOLUTION: 1.00000
SECONDARY_HORIZONTAL_DATUM: NAD27
XY_ORIGIN: 559441.00000 5393387.00000
SECONDARY_XY_ORIGIN: 559499.32500 5393168.83600
NATION: US
NATION: "SCIENCE
STATE: MT
NW_QUAD_CORNER_XY: 559798.94500 5393036.06900
NE_QUAD_CORNER_XY: 564398.82000 5393086.95200
SE_QUAD_CORNERY_XY: 564478.47900 5386139.64200
SW_QUAD_CORNER_XY: 559872.91400 5386088.74500
SECONDARY_NW_QUAD_XY: 559800.85300 5392817.08600
SECONDARY_NE_QUAD_XY: 564400.87500 5392867.97100
SECONDARY_SE_QUAD_XY: 564480.53500 5385920.66700
SECONDARY_SW_QUAD_XY: 559874.82200 5385869.76800
RMSE_XY: 1.60000
IMAGE_SOURCE: BLACK AND WHITE FILM
SOURCE_IMAGE_ID: NAPP 9179 058
SOURCE_IMAGE_DATE: 1997 09 04
SOURCE_DEM_DATE: 1968 00 00
AGENCY: WESTERN MAPPING CENTER (WMC)
PRODUCER: UNDEFINED
PRODUCTION_SYSTEM: GIS/MAGIC
COMPRESSION: UNDEFINED
STANDARD_VERSION: 1996 12
METADATA_DATE: 2000 11 29
DATA_FILE_SIZE: 40592417
BYTE_COUNT: 5339
