FILENAME: O4811022.NES.1115076.tif
QUADRANGLE_NAME: GILDFORD NE
QUADRANT: NE
WEST_LONGITUDE: -110 18 45.00000
EAST_LONGITUDE: -110 15 0.00000
NORTH_LATITUDE: 48 45 0.00000
SOUTH_LATITUDE: 48 41 15.00000
PRODUCTION_DATE: 2000 10 13
RASTER_ORDER: LEFT_RIGHT/TOP_BOTTOM
BAND_ORGANIZATION: SINGLE FILE
BAND_CONTENT: BLACK&WHITE
BAND_CONTENT: UNDEFINED
BAND_CONTENT: UNDEFINED
BITS_PER_PIXEL: 8
SAMPLES_AND_LINES: 5323 7595
HORIZONTAL_DATUM: NAD83
HORIZONTAL_COORDINATE_SYSTEM: UTM
COORDINATE_ZONE: 12
HORIZONTAL_UNITS: METERS
HORIZONTAL_RESOLUTION: 1.00000
SECONDARY_HORIZONTAL_DATUM: NAD27
XY_ORIGIN: 550178.00000 5400237.00000
SECONDARY_XY_ORIGIN: 550236.31300 5400018.59200
NATION: US
NATION: "SCIENCE
STATE: MT
NW_QUAD_CORNER_XY: 550536.52000 5399893.03400
NE_QUAD_CORNER_XY: 555130.71600 5399936.36600
SE_QUAD_CORNERY_XY: 555199.06100 5392988.95500
SW_QUAD_CORNER_XY: 550599.16800 5392945.61000
SECONDARY_NW_QUAD_XY: 550538.13500 5399674.04300
SECONDARY_NE_QUAD_XY: 555132.47800 5399717.37700
SECONDARY_SE_QUAD_XY: 555200.82300 5392769.97000
SECONDARY_SW_QUAD_XY: 550600.78300 5392726.62400
RMSE_XY: 0.80000
IMAGE_SOURCE: BLACK AND WHITE FILM
SOURCE_IMAGE_ID: NAPP 9177 099
SOURCE_IMAGE_DATE: 1997 09 04
SOURCE_DEM_DATE: 1968 00 00
AGENCY: WESTERN MAPPING CENTER (WMC)
PRODUCER: UNDEFINED
PRODUCTION_SYSTEM: GIS/MAGIC
COMPRESSION: UNDEFINED
STANDARD_VERSION: 1996 12
METADATA_DATE: 2000 11 08
DATA_FILE_SIZE: 40433508
BYTE_COUNT: 5323
