FILENAME: O4811021.NES.1115048.tif
QUADRANGLE_NAME: GILDFORD NW
QUADRANT: NE
WEST_LONGITUDE: -110 26 15.00000
EAST_LONGITUDE: -110 22 30.00000
NORTH_LATITUDE: 48 45 0.00000
SOUTH_LATITUDE: 48 41 15.00000
PRODUCTION_DATE: 2000 10 13
RASTER_ORDER: LEFT_RIGHT/TOP_BOTTOM
BAND_ORGANIZATION: SINGLE FILE
BAND_CONTENT: BLACK&WHITE
BAND_CONTENT: UNDEFINED
BAND_CONTENT: UNDEFINED
BITS_PER_PIXEL: 8
SAMPLES_AND_LINES: 5312 7587
HORIZONTAL_DATUM: NAD83
HORIZONTAL_COORDINATE_SYSTEM: UTM
COORDINATE_ZONE: 12
HORIZONTAL_UNITS: METERS
HORIZONTAL_RESOLUTION: 1.00000
SECONDARY_HORIZONTAL_DATUM: NAD27
XY_ORIGIN: 540989.00000 5400154.00000
SECONDARY_XY_ORIGIN: 541047.61000 5399935.63600
NATION: US
NATION: "SCIENCE
STATE: MT
NW_QUAD_CORNER_XY: 541348.10400 5399817.67400
NE_QUAD_CORNER_XY: 545942.31500 5399853.46900
SE_QUAD_CORNERY_XY: 545999.26800 5392906.03500
SW_QUAD_CORNER_XY: 541399.36100 5392870.22900
SECONDARY_NW_QUAD_XY: 541349.42500 5399598.68000
SECONDARY_NE_QUAD_XY: 545943.78300 5399634.47700
SECONDARY_SE_QUAD_XY: 546000.73600 5392687.04800
SECONDARY_SW_QUAD_XY: 541400.68300 5392651.24100
RMSE_XY: 2.80000
IMAGE_SOURCE: BLACK AND WHITE FILM
SOURCE_IMAGE_ID: NAPP 9177 194
SOURCE_IMAGE_DATE: 1997 09 04
SOURCE_DEM_DATE: 1968 00 00
AGENCY: WESTERN MAPPING CENTER (WMC)
PRODUCER: UNDEFINED
PRODUCTION_SYSTEM: GIS/MAGIC
COMPRESSION: UNDEFINED
STANDARD_VERSION: 1996 12
METADATA_DATE: 2000 11 08
DATA_FILE_SIZE: 40307456
BYTE_COUNT: 5312
