FILENAME: O4811020.NES.1115539.tif
QUADRANGLE_NAME: RUDYARD NE
QUADRANT: NE
WEST_LONGITUDE: -110 33 45.00000
EAST_LONGITUDE: -110 30 0.00000
NORTH_LATITUDE: 48 45 0.00000
SOUTH_LATITUDE: 48 41 15.00000
PRODUCTION_DATE: 2000 11 2
RASTER_ORDER: LEFT_RIGHT/TOP_BOTTOM
BAND_ORGANIZATION: SINGLE FILE
BAND_CONTENT: BLACK&WHITE
BAND_CONTENT: UNDEFINED
BAND_CONTENT: UNDEFINED
BITS_PER_PIXEL: 8
SAMPLES_AND_LINES: 5301 7579
HORIZONTAL_DATUM: NAD83
HORIZONTAL_COORDINATE_SYSTEM: UTM
COORDINATE_ZONE: 12
HORIZONTAL_UNITS: METERS
HORIZONTAL_RESOLUTION: 1.00000
SECONDARY_HORIZONTAL_DATUM: NAD27
XY_ORIGIN: 531800.00000 5400086.00000
SECONDARY_XY_ORIGIN: 531858.90000 5399867.66200
NATION: US
NATION: "SCIENCE
STATE: MT
NW_QUAD_CORNER_XY: 532159.66300 5399757.38600
NE_QUAD_CORNER_XY: 536753.88600 5399785.64600
SE_QUAD_CORNERY_XY: 536799.44800 5392838.19200
SW_QUAD_CORNER_XY: 532199.52900 5392809.92500
SECONDARY_NW_QUAD_XY: 532160.69000 5399538.39100
SECONDARY_NE_QUAD_XY: 536755.06100 5399566.65200
SECONDARY_SE_QUAD_XY: 536800.62300 5392619.20300
SECONDARY_SW_QUAD_XY: 532200.55700 5392590.93500
RMSE_XY: 1.00000
IMAGE_SOURCE: BLACK AND WHITE FILM
SOURCE_IMAGE_ID: NAPP 9167 106
SOURCE_IMAGE_DATE: 1996 08 26
SOURCE_DEM_DATE: 1970 00 00
AGENCY: WESTERN MAPPING CENTER (WMC)
PRODUCER: UNDEFINED
PRODUCTION_SYSTEM: GIS/MAGIC
COMPRESSION: UNDEFINED
STANDARD_VERSION: 1996 12
METADATA_DATE: 2000 11 07
DATA_FILE_SIZE: 40181580
BYTE_COUNT: 5301
