FILENAME: O4811020.NWS.1115540.tif
QUADRANGLE_NAME: RUDYARD NE
QUADRANT: NW
WEST_LONGITUDE: -110 37 30.00000
EAST_LONGITUDE: -110 33 45.00000
NORTH_LATITUDE: 48 45 0.00000
SOUTH_LATITUDE: 48 41 15.00000
PRODUCTION_DATE: 2000 11 2
RASTER_ORDER: LEFT_RIGHT/TOP_BOTTOM
BAND_ORGANIZATION: SINGLE FILE
BAND_CONTENT: BLACK&WHITE
BAND_CONTENT: UNDEFINED
BAND_CONTENT: UNDEFINED
BITS_PER_PIXEL: 8
SAMPLES_AND_LINES: 5295 7576
HORIZONTAL_DATUM: NAD83
HORIZONTAL_COORDINATE_SYSTEM: UTM
COORDINATE_ZONE: 12
HORIZONTAL_UNITS: METERS
HORIZONTAL_RESOLUTION: 1.00000
SECONDARY_HORIZONTAL_DATUM: NAD27
XY_ORIGIN: 527206.00000 5400058.00000
SECONDARY_XY_ORIGIN: 527265.04000 5399839.66900
NATION: US
NATION: "SCIENCE
STATE: MT
NW_QUAD_CORNER_XY: 527565.43400 5399732.89500
NE_QUAD_CORNER_XY: 532159.66300 5399757.38600
SE_QUAD_CORNERY_XY: 532199.52900 5392809.92500
SW_QUAD_CORNER_XY: 527599.60600 5392785.42600
SECONDARY_NW_QUAD_XY: 527566.31500 5399513.89900
SECONDARY_NE_QUAD_XY: 532160.69000 5399538.39100
SECONDARY_SE_QUAD_XY: 532200.55700 5392590.93500
SECONDARY_SW_QUAD_XY: 527600.48600 5392566.43500
RMSE_XY: 0.70000
IMAGE_SOURCE: BLACK AND WHITE FILM
SOURCE_IMAGE_ID: NAPP 9167 127
SOURCE_IMAGE_DATE: 1996 08 26
SOURCE_DEM_DATE: 1970 00 00
AGENCY: WESTERN MAPPING CENTER (WMC)
PRODUCER: UNDEFINED
PRODUCTION_SYSTEM: GIS/MAGIC
COMPRESSION: UNDEFINED
STANDARD_VERSION: 1996 12
METADATA_DATE: 2000 11 07
DATA_FILE_SIZE: 40120215
BYTE_COUNT: 5295
