FILENAME: O4811020.SES.1115541.tif
QUADRANGLE_NAME: RUDYARD NE
QUADRANT: SE
WEST_LONGITUDE: -110 33 45.00000
EAST_LONGITUDE: -110 30 0.00000
NORTH_LATITUDE: 48 41 15.00000
SOUTH_LATITUDE: 48 37 30.00000
PRODUCTION_DATE: 2000 11 2
RASTER_ORDER: LEFT_RIGHT/TOP_BOTTOM
BAND_ORGANIZATION: SINGLE FILE
BAND_CONTENT: BLACK&WHITE
BAND_CONTENT: UNDEFINED
BAND_CONTENT: UNDEFINED
BITS_PER_PIXEL: 8
SAMPLES_AND_LINES: 5306 7580
HORIZONTAL_DATUM: NAD83
HORIZONTAL_COORDINATE_SYSTEM: UTM
COORDINATE_ZONE: 12
HORIZONTAL_UNITS: METERS
HORIZONTAL_RESOLUTION: 1.00000
SECONDARY_HORIZONTAL_DATUM: NAD27
XY_ORIGIN: 531840.00000 5393139.00000
SECONDARY_XY_ORIGIN: 531898.88700 5392920.90000
NATION: US
NATION: "SCIENCE
STATE: MT
NW_QUAD_CORNER_XY: 532199.52900 5392809.92500
NE_QUAD_CORNER_XY: 536799.44800 5392838.19200
SE_QUAD_CORNERY_XY: 536844.96600 5385890.81300
SW_QUAD_CORNER_XY: 532239.35700 5385862.53800
SECONDARY_NW_QUAD_XY: 532200.55700 5392590.93500
SECONDARY_NE_QUAD_XY: 536800.62300 5392619.20300
SECONDARY_SE_QUAD_XY: 536846.14000 5385671.83000
SECONDARY_SW_QUAD_XY: 532240.38500 5385643.55400
RMSE_XY: 1.00000
IMAGE_SOURCE: BLACK AND WHITE FILM
SOURCE_IMAGE_ID: NAPP 9167 104
SOURCE_IMAGE_DATE: 1996 08 26
SOURCE_DEM_DATE: 1970 00 00
AGENCY: WESTERN MAPPING CENTER (WMC)
PRODUCER: UNDEFINED
PRODUCTION_SYSTEM: GIS/MAGIC
COMPRESSION: UNDEFINED
STANDARD_VERSION: 1996 12
METADATA_DATE: 2000 11 07
DATA_FILE_SIZE: 40224786
BYTE_COUNT: 5306
