FILENAME: O4811019.NES.1115535.tif
QUADRANGLE_NAME: RUDYARD NW
QUADRANT: NE
WEST_LONGITUDE: -110 41 15.00000
EAST_LONGITUDE: -110 37 30.00000
NORTH_LATITUDE: 48 45 0.00000
SOUTH_LATITUDE: 48 41 15.00000
PRODUCTION_DATE: 2000 11 2
RASTER_ORDER: LEFT_RIGHT/TOP_BOTTOM
BAND_ORGANIZATION: SINGLE FILE
BAND_CONTENT: BLACK&WHITE
BAND_CONTENT: UNDEFINED
BAND_CONTENT: UNDEFINED
BITS_PER_PIXEL: 8
SAMPLES_AND_LINES: 5290 7572
HORIZONTAL_DATUM: NAD83
HORIZONTAL_COORDINATE_SYSTEM: UTM
COORDINATE_ZONE: 12
HORIZONTAL_UNITS: METERS
HORIZONTAL_RESOLUTION: 1.00000
SECONDARY_HORIZONTAL_DATUM: NAD27
XY_ORIGIN: 522611.00000 5400033.00000
SECONDARY_XY_ORIGIN: 522670.18000 5399814.67500
NATION: US
NATION: "SCIENCE
STATE: MT
NW_QUAD_CORNER_XY: 522971.20200 5399712.17100
NE_QUAD_CORNER_XY: 527565.43400 5399732.89500
SE_QUAD_CORNERY_XY: 527599.60600 5392785.42600
SW_QUAD_CORNER_XY: 522999.67800 5392764.69700
SECONDARY_NW_QUAD_XY: 522971.93600 5399493.17500
SECONDARY_NE_QUAD_XY: 527566.31500 5399513.89900
SECONDARY_SE_QUAD_XY: 527600.48600 5392566.43500
SECONDARY_SW_QUAD_XY: 523000.41200 5392545.70500
RMSE_XY: 1.60000
IMAGE_SOURCE: BLACK AND WHITE FILM
SOURCE_IMAGE_ID: NAPP 9167 204
SOURCE_IMAGE_DATE: 1996 08 26
SOURCE_DEM_DATE: 1970 00 00
AGENCY: WESTERN MAPPING CENTER (WMC)
PRODUCER: UNDEFINED
PRODUCTION_SYSTEM: GIS/MAGIC
COMPRESSION: UNDEFINED
STANDARD_VERSION: 1996 12
METADATA_DATE: 2000 11 29
DATA_FILE_SIZE: 40061170
BYTE_COUNT: 5290
