FILENAME: O4811019.SES.1115537.tif
QUADRANGLE_NAME: RUDYARD NW
QUADRANT: SE
WEST_LONGITUDE: -110 41 15.00000
EAST_LONGITUDE: -110 37 30.00000
NORTH_LATITUDE: 48 41 15.00000
SOUTH_LATITUDE: 48 37 30.00000
PRODUCTION_DATE: 2000 11 2
RASTER_ORDER: LEFT_RIGHT/TOP_BOTTOM
BAND_ORGANIZATION: SINGLE FILE
BAND_CONTENT: BLACK&WHITE
BAND_CONTENT: UNDEFINED
BAND_CONTENT: UNDEFINED
BITS_PER_PIXEL: 8
SAMPLES_AND_LINES: 5295 7572
HORIZONTAL_DATUM: NAD83
HORIZONTAL_COORDINATE_SYSTEM: UTM
COORDINATE_ZONE: 12
HORIZONTAL_UNITS: METERS
HORIZONTAL_RESOLUTION: 1.00000
SECONDARY_HORIZONTAL_DATUM: NAD27
XY_ORIGIN: 522640.00000 5393086.00000
SECONDARY_XY_ORIGIN: 522699.13200 5392867.88600
NATION: US
NATION: "SCIENCE
STATE: MT
NW_QUAD_CORNER_XY: 522999.67800 5392764.69700
NE_QUAD_CORNER_XY: 527599.60600 5392785.42600
SE_QUAD_CORNERY_XY: 527633.74400 5385838.03300
SW_QUAD_CORNER_XY: 523028.12600 5385817.29800
SECONDARY_NW_QUAD_XY: 523000.41200 5392545.70500
SECONDARY_NE_QUAD_XY: 527600.48600 5392566.43500
SECONDARY_SE_QUAD_XY: 527634.62400 5385619.04800
SECONDARY_SW_QUAD_XY: 523028.86000 5385598.31200
RMSE_XY: 0.80000
IMAGE_SOURCE: BLACK AND WHITE FILM
SOURCE_IMAGE_ID: NAPP 9167 202
SOURCE_IMAGE_DATE: 1996 08 26
SOURCE_DEM_DATE: 1970 00 00
AGENCY: WESTERN MAPPING CENTER (WMC)
PRODUCER: UNDEFINED
PRODUCTION_SYSTEM: GIS/MAGIC
COMPRESSION: UNDEFINED
STANDARD_VERSION: 1996 12
METADATA_DATE: 2000 11 29
DATA_FILE_SIZE: 40099035
BYTE_COUNT: 5295
