FILENAME: O4811018.NWS.1115508.tif
QUADRANGLE_NAME: CHESTER NE
QUADRANT: NW
WEST_LONGITUDE: -110 52 30.00000
EAST_LONGITUDE: -110 48 45.00000
NORTH_LATITUDE: 48 45 0.00000
SOUTH_LATITUDE: 48 41 15.00000
PRODUCTION_DATE: 2000 11 1
RASTER_ORDER: LEFT_RIGHT/TOP_BOTTOM
BAND_ORGANIZATION: SINGLE FILE
BAND_CONTENT: BLACK&WHITE
BAND_CONTENT: UNDEFINED
BAND_CONTENT: UNDEFINED
BITS_PER_PIXEL: 8
SAMPLES_AND_LINES: 5273 7561
HORIZONTAL_DATUM: NAD83
HORIZONTAL_COORDINATE_SYSTEM: UTM
COORDINATE_ZONE: 12
HORIZONTAL_UNITS: METERS
HORIZONTAL_RESOLUTION: 1.00000
SECONDARY_HORIZONTAL_DATUM: NAD27
XY_ORIGIN: 508828.00000 5399983.00000
SECONDARY_XY_ORIGIN: 508887.36000 5399764.57700
NATION: US
NATION: "SCIENCE
STATE: MT
NW_QUAD_CORNER_XY: 509188.48600 5399672.60800
NE_QUAD_CORNER_XY: 513782.72700 5399682.02800
SE_QUAD_CORNERY_XY: 513799.81200 5392734.54500
SW_QUAD_CORNER_XY: 509199.87600 5392725.12300
SECONDARY_NW_QUAD_XY: 509188.77900 5399453.61000
SECONDARY_NE_QUAD_XY: 513783.16700 5399463.03100
SECONDARY_SE_QUAD_XY: 513800.25300 5392515.55300
SECONDARY_SW_QUAD_XY: 509200.17000 5392506.13000
RMSE_XY: 0.90000
IMAGE_SOURCE: BLACK AND WHITE FILM
SOURCE_IMAGE_ID: NAPP 9168 018
SOURCE_IMAGE_DATE: 1996 08 26
SOURCE_DEM_DATE: 1962 00 00
AGENCY: WESTERN MAPPING CENTER (WMC)
PRODUCER: UNDEFINED
PRODUCTION_SYSTEM: GIS/MAGIC
COMPRESSION: UNDEFINED
STANDARD_VERSION: 1996 12
METADATA_DATE: 2000 11 07
DATA_FILE_SIZE: 39874426
BYTE_COUNT: 5273
