FILENAME: O4811018.SES.1115509.tif
QUADRANGLE_NAME: CHESTER NE
QUADRANT: SE
WEST_LONGITUDE: -110 48 45.00000
EAST_LONGITUDE: -110 45 0.00000
NORTH_LATITUDE: 48 41 15.00000
SOUTH_LATITUDE: 48 37 30.00000
PRODUCTION_DATE: 2000 11 1
RASTER_ORDER: LEFT_RIGHT/TOP_BOTTOM
BAND_ORGANIZATION: SINGLE FILE
BAND_CONTENT: BLACK&WHITE
BAND_CONTENT: UNDEFINED
BAND_CONTENT: UNDEFINED
BITS_PER_PIXEL: 8
SAMPLES_AND_LINES: 5285 7564
HORIZONTAL_DATUM: NAD83
HORIZONTAL_COORDINATE_SYSTEM: UTM
COORDINATE_ZONE: 12
HORIZONTAL_UNITS: METERS
HORIZONTAL_RESOLUTION: 1.00000
SECONDARY_HORIZONTAL_DATUM: NAD27
XY_ORIGIN: 513439.00000 5393048.00000
SECONDARY_XY_ORIGIN: 513498.30900 5392829.83200
NATION: US
NATION: "SCIENCE
STATE: MT
NW_QUAD_CORNER_XY: 513799.81200 5392734.54500
NE_QUAD_CORNER_XY: 518399.74600 5392747.73600
SE_QUAD_CORNERY_XY: 518422.50500 5385800.33300
SW_QUAD_CORNER_XY: 513816.88100 5385787.13800
SECONDARY_NW_QUAD_XY: 513800.25300 5392515.55300
SECONDARY_NE_QUAD_XY: 518400.33400 5392528.74400
SECONDARY_SE_QUAD_XY: 518423.09200 5385581.34700
SECONDARY_SW_QUAD_XY: 513817.32100 5385568.15100
RMSE_XY: 1.60000
IMAGE_SOURCE: BLACK AND WHITE FILM
SOURCE_IMAGE_ID: NAPP 9167 309
SOURCE_IMAGE_DATE: 1996 08 26
SOURCE_DEM_DATE: 1962 00 00
AGENCY: WESTERN MAPPING CENTER (WMC)
PRODUCER: UNDEFINED
PRODUCTION_SYSTEM: GIS/MAGIC
COMPRESSION: UNDEFINED
STANDARD_VERSION: 1996 12
METADATA_DATE: 2000 11 07
DATA_FILE_SIZE: 39981025
BYTE_COUNT: 5285
