FILENAME: Y:\DOQQ\replacements\temp\193\geotiff\O4811017.SWS.1115482.tif
QUADRANGLE_NAME: CHESTER NW
QUADRANT: SW
WEST_LONGITUDE: -111 0 0.00000
EAST_LONGITUDE: -110 56 15.00000
NORTH_LATITUDE: 48 41 15.00000
SOUTH_LATITUDE: 48 37 30.00000
PRODUCTION_DATE: 2000 11 1
RASTER_ORDER: LEFT_RIGHT/TOP_BOTTOM
BAND_ORGANIZATION: SINGLE FILE
BAND_CONTENT: BLACK&WHITE
BAND_CONTENT: UNDEFINED
BAND_CONTENT: UNDEFINED
BITS_PER_PIXEL: 8
SAMPLES_AND_LINES: 5268 7553
HORIZONTAL_DATUM: NAD83
HORIZONTAL_COORDINATE_SYSTEM: UTM
COORDINATE_ZONE: 12
HORIZONTAL_UNITS: METERS
HORIZONTAL_RESOLUTION: 1.00000
SECONDARY_HORIZONTAL_DATUM: NAD27
XY_ORIGIN: 499639.00000 5393020.00000
SECONDARY_XY_ORIGIN: 499698.44500 5392801.68400
NATION: US
NATION: "SCIENCE
STATE: MT
NW_QUAD_CORNER_XY: 500000.00000 5392717.58500
NE_QUAD_CORNER_XY: 504599.93800 5392719.46900
SE_QUAD_CORNERY_XY: 504605.62800 5385772.05800
SW_QUAD_CORNER_XY: 500000.00000 5385770.17300
SECONDARY_NW_QUAD_XY: 500000.00000 5392498.59200
SECONDARY_NE_QUAD_XY: 504600.08500 5392500.47600
SECONDARY_SE_QUAD_XY: 504605.77500 5385553.07100
SECONDARY_SW_QUAD_XY: 500000.00000 5385551.18600
RMSE_XY: 0.80000
IMAGE_SOURCE: BLACK AND WHITE FILM
SOURCE_IMAGE_ID: NAPP 9169 052
SOURCE_IMAGE_DATE: 1997 07 25
SOURCE_DEM_DATE: 1962 00 00
AGENCY: WESTERN MAPPING CENTER (WMC)
PRODUCER: UNDEFINED
PRODUCTION_SYSTEM: GIS/MAGIC
COMPRESSION: UNDEFINED
STANDARD_VERSION: 1996 12
METADATA_DATE: 2000 11 07
DATA_FILE_SIZE: 39794472
BYTE_COUNT: 5268
