FILENAME: O4811016.NWS.1115125.tif
QUADRANGLE_NAME: SAINT JOHNS
QUADRANT: NW
WEST_LONGITUDE: -110 7 30.00000
EAST_LONGITUDE: -110 3 45.00000
NORTH_LATITUDE: 48 52 30.00000
SOUTH_LATITUDE: 48 48 45.00000
PRODUCTION_DATE: 2000 10 12
RASTER_ORDER: LEFT_RIGHT/TOP_BOTTOM
BAND_ORGANIZATION: SINGLE FILE
BAND_CONTENT: BLACK&WHITE
BAND_CONTENT: UNDEFINED
BAND_CONTENT: UNDEFINED
BITS_PER_PIXEL: 8
SAMPLES_AND_LINES: 5327 7605
HORIZONTAL_DATUM: NAD83
HORIZONTAL_COORDINATE_SYSTEM: UTM
COORDINATE_ZONE: 12
HORIZONTAL_UNITS: METERS
HORIZONTAL_RESOLUTION: 1.00000
SECONDARY_HORIZONTAL_DATUM: NAD27
XY_ORIGIN: 563802.00000 5414284.00000
SECONDARY_XY_ORIGIN: 563860.02100 5414064.96900
NATION: US
NATION: "SCIENCE
STATE: MT
NW_QUAD_CORNER_XY: 564159.37800 5413929.32600
NE_QUAD_CORNER_XY: 568742.13800 5413983.93200
SE_QUAD_CORNERY_XY: 568827.73700 5407036.41600
SW_QUAD_CORNER_XY: 564239.26900 5406981.79400
SECONDARY_NW_QUAD_XY: 564161.43400 5413710.33200
SECONDARY_NE_QUAD_XY: 568744.34100 5413764.94000
SECONDARY_SE_QUAD_XY: 568829.93900 5406817.42700
SECONDARY_SW_QUAD_XY: 564241.32500 5406762.80300
RMSE_XY: 2.20000
IMAGE_SOURCE: BLACK AND WHITE FILM
SOURCE_IMAGE_ID: NAPP 9178 243
SOURCE_IMAGE_DATE: 1997 09 04
SOURCE_DEM_DATE: 1993 00 00
AGENCY: WESTERN MAPPING CENTER (WMC)
PRODUCER: UNDEFINED
PRODUCTION_SYSTEM: GIS/MAGIC
COMPRESSION: UNDEFINED
STANDARD_VERSION: 1996 12
METADATA_DATE: 2000 11 29
DATA_FILE_SIZE: 40517162
BYTE_COUNT: 5327
