FILENAME: O4811016.SES.1115126.tif
QUADRANGLE_NAME: SAINT JOHNS
QUADRANT: SE
WEST_LONGITUDE: -110 3 45.00000
EAST_LONGITUDE: -110 0 0.00000
NORTH_LATITUDE: 48 48 45.00000
SOUTH_LATITUDE: 48 45 0.00000
PRODUCTION_DATE: 2000 10 12
RASTER_ORDER: LEFT_RIGHT/TOP_BOTTOM
BAND_ORGANIZATION: SINGLE FILE
BAND_CONTENT: BLACK&WHITE
BAND_CONTENT: UNDEFINED
BAND_CONTENT: UNDEFINED
BITS_PER_PIXEL: 8
SAMPLES_AND_LINES: 5339 7609
HORIZONTAL_DATUM: NAD83
HORIZONTAL_COORDINATE_SYSTEM: UTM
COORDINATE_ZONE: 12
HORIZONTAL_UNITS: METERS
HORIZONTAL_RESOLUTION: 1.00000
SECONDARY_HORIZONTAL_DATUM: NAD27
XY_ORIGIN: 568470.00000 5407395.00000
SECONDARY_XY_ORIGIN: 568528.18600 5407176.27300
NATION: US
NATION: "SCIENCE
STATE: MT
NW_QUAD_CORNER_XY: 568827.73700 5407036.41600
NE_QUAD_CORNER_XY: 573416.19300 5407094.80600
SE_QUAD_CORNERY_XY: 573507.41100 5400147.38100
SW_QUAD_CORNER_XY: 568913.25200 5400088.97400
SECONDARY_NW_QUAD_XY: 568829.93900 5406817.42700
SECONDARY_NE_QUAD_XY: 573418.54200 5406875.81900
SECONDARY_SE_QUAD_XY: 573509.76000 5399928.39800
SECONDARY_SW_QUAD_XY: 568915.45400 5399869.98900
RMSE_XY: 2.00000
IMAGE_SOURCE: BLACK AND WHITE FILM
SOURCE_IMAGE_ID: NAPP 9178 228
SOURCE_IMAGE_DATE: 1997 09 04
SOURCE_DEM_DATE: 1993 00 00
AGENCY: WESTERN MAPPING CENTER (WMC)
PRODUCER: UNDEFINED
PRODUCTION_SYSTEM: GIS/MAGIC
COMPRESSION: UNDEFINED
STANDARD_VERSION: 1996 12
METADATA_DATE: 2000 11 29
DATA_FILE_SIZE: 40629790
BYTE_COUNT: 5339
