FILENAME: O4811015.SES.1115102.tif
QUADRANGLE_NAME: NINEMILE COULEE EAST
QUADRANT: SE
WEST_LONGITUDE: -110 11 15.00000
EAST_LONGITUDE: -110 7 30.00000
NORTH_LATITUDE: 48 48 45.00000
SOUTH_LATITUDE: 48 45 0.00000
PRODUCTION_DATE: 2000 10 17
RASTER_ORDER: LEFT_RIGHT/TOP_BOTTOM
BAND_ORGANIZATION: SINGLE FILE
BAND_CONTENT: BLACK&WHITE
BAND_CONTENT: UNDEFINED
BAND_CONTENT: UNDEFINED
BITS_PER_PIXEL: 8
SAMPLES_AND_LINES: 5328 7602
HORIZONTAL_DATUM: NAD83
HORIZONTAL_COORDINATE_SYSTEM: UTM
COORDINATE_ZONE: 12
HORIZONTAL_UNITS: METERS
HORIZONTAL_RESOLUTION: 1.00000
SECONDARY_HORIZONTAL_DATUM: NAD27
XY_ORIGIN: 559293.00000 5407282.00000
SECONDARY_XY_ORIGIN: 559351.10300 5407063.25900
NATION: US
NATION: "SCIENCE
STATE: MT
NW_QUAD_CORNER_XY: 559650.79200 5406930.93900
NE_QUAD_CORNER_XY: 564239.26900 5406981.79400
SE_QUAD_CORNERY_XY: 564319.08300 5400034.33600
SW_QUAD_CORNER_XY: 559724.90400 5399983.46700
SECONDARY_NW_QUAD_XY: 559652.70100 5406711.94700
SECONDARY_NE_QUAD_XY: 564241.32500 5406762.80300
SECONDARY_SE_QUAD_XY: 564321.13900 5399815.35000
SECONDARY_SW_QUAD_XY: 559726.81300 5399764.47900
RMSE_XY: 1.40000
IMAGE_SOURCE: BLACK AND WHITE FILM
SOURCE_IMAGE_ID: NAPP 9179 062
SOURCE_IMAGE_DATE: 1997 09 04
SOURCE_IMAGE_ID: NAPP 9179 061
SOURCE_IMAGE_DATE: 1997 09 04
SOURCE_DEM_DATE: 1970 00 00
AGENCY: WESTERN MAPPING CENTER (WMC)
PRODUCER: UNDEFINED
PRODUCTION_SYSTEM: GIS/MAGIC
COMPRESSION: UNDEFINED
STANDARD_VERSION: 1996 12
METADATA_DATE: 2000 11 29
DATA_FILE_SIZE: 40508784
BYTE_COUNT: 5328
