FILENAME: O4811015.SWS.1115103.tif
QUADRANGLE_NAME: NINEMILE COULEE EAST
QUADRANT: SW
WEST_LONGITUDE: -110 15 0.00000
EAST_LONGITUDE: -110 11 15.00000
NORTH_LATITUDE: 48 48 45.00000
SOUTH_LATITUDE: 48 45 0.00000
PRODUCTION_DATE: 2000 10 13
RASTER_ORDER: LEFT_RIGHT/TOP_BOTTOM
BAND_ORGANIZATION: SINGLE FILE
BAND_CONTENT: BLACK&WHITE
BAND_CONTENT: UNDEFINED
BAND_CONTENT: UNDEFINED
BITS_PER_PIXEL: 8
SAMPLES_AND_LINES: 5322 7598
HORIZONTAL_DATUM: NAD83
HORIZONTAL_COORDINATE_SYSTEM: UTM
COORDINATE_ZONE: 12
HORIZONTAL_UNITS: METERS
HORIZONTAL_RESOLUTION: 1.00000
SECONDARY_HORIZONTAL_DATUM: NAD27
XY_ORIGIN: 554704.00000 5407231.00000
SECONDARY_XY_ORIGIN: 554762.06100 5407012.25200
NATION: US
NATION: "SCIENCE
STATE: MT
NW_QUAD_CORNER_XY: 555062.30600 5406883.85200
NE_QUAD_CORNER_XY: 559650.79200 5406930.93900
SE_QUAD_CORNERY_XY: 559724.90400 5399983.46700
SW_QUAD_CORNER_XY: 555130.71600 5399936.36600
SECONDARY_NW_QUAD_XY: 555064.06700 5406664.85800
SECONDARY_NE_QUAD_XY: 559652.70100 5406711.94700
SECONDARY_SE_QUAD_XY: 559726.81300 5399764.47900
SECONDARY_SW_QUAD_XY: 555132.47800 5399717.37700
RMSE_XY: 1.10000
IMAGE_SOURCE: BLACK AND WHITE FILM
SOURCE_IMAGE_ID: NAPP 9177 018
SOURCE_IMAGE_DATE: 1997 09 04
SOURCE_DEM_DATE: 1970 00 00
AGENCY: WESTERN MAPPING CENTER (WMC)
PRODUCER: UNDEFINED
PRODUCTION_SYSTEM: GIS/MAGIC
COMPRESSION: UNDEFINED
STANDARD_VERSION: 1996 12
METADATA_DATE: 2000 11 29
DATA_FILE_SIZE: 40441878
BYTE_COUNT: 5322
