FILENAME: O4811014.NES.1115072.tif
QUADRANGLE_NAME: NINEMILE COULEE WEST
QUADRANT: NE
WEST_LONGITUDE: -110 18 45.00000
EAST_LONGITUDE: -110 15 0.00000
NORTH_LATITUDE: 48 52 30.00000
SOUTH_LATITUDE: 48 48 45.00000
PRODUCTION_DATE: 2000 10 13
RASTER_ORDER: LEFT_RIGHT/TOP_BOTTOM
BAND_ORGANIZATION: SINGLE FILE
BAND_CONTENT: BLACK&WHITE
BAND_CONTENT: UNDEFINED
BAND_CONTENT: UNDEFINED
BITS_PER_PIXEL: 8
SAMPLES_AND_LINES: 5311 7594
HORIZONTAL_DATUM: NAD83
HORIZONTAL_COORDINATE_SYSTEM: UTM
COORDINATE_ZONE: 12
HORIZONTAL_UNITS: METERS
HORIZONTAL_RESOLUTION: 1.00000
SECONDARY_HORIZONTAL_DATUM: NAD27
XY_ORIGIN: 550053.00000 5414132.00000
SECONDARY_XY_ORIGIN: 550111.13200 5413912.95900
NATION: US
NATION: "SCIENCE
STATE: MT
NW_QUAD_CORNER_XY: 550411.04000 5413788.10500
NE_QUAD_CORNER_XY: 554993.82900 5413831.41200
SE_QUAD_CORNERY_XY: 555062.30600 5406883.85200
SW_QUAD_CORNER_XY: 550473.81000 5406840.53200
SECONDARY_NW_QUAD_XY: 550412.65500 5413569.10600
SECONDARY_NE_QUAD_XY: 554995.59100 5413612.41500
SECONDARY_SE_QUAD_XY: 555064.06700 5406664.85800
SECONDARY_SW_QUAD_XY: 550475.42500 5406621.53700
RMSE_XY: 1.20000
IMAGE_SOURCE: BLACK AND WHITE FILM
SOURCE_IMAGE_ID: NAPP 9177 103
SOURCE_IMAGE_DATE: 1997 09 04
SOURCE_DEM_DATE: 1970 00 00
AGENCY: WESTERN MAPPING CENTER (WMC)
PRODUCER: UNDEFINED
PRODUCTION_SYSTEM: GIS/MAGIC
COMPRESSION: UNDEFINED
STANDARD_VERSION: 1996 12
METADATA_DATE: 2000 11 08
DATA_FILE_SIZE: 40337045
BYTE_COUNT: 5311
