FILENAME: O4811014.NWS.1115073.tif
QUADRANGLE_NAME: NINEMILE COULEE WEST
QUADRANT: NW
WEST_LONGITUDE: -110 22 30.00000
EAST_LONGITUDE: -110 18 45.00000
NORTH_LATITUDE: 48 52 30.00000
SOUTH_LATITUDE: 48 48 45.00000
PRODUCTION_DATE: 2000 10 13
RASTER_ORDER: LEFT_RIGHT/TOP_BOTTOM
BAND_ORGANIZATION: SINGLE FILE
BAND_CONTENT: BLACK&WHITE
BAND_CONTENT: UNDEFINED
BAND_CONTENT: UNDEFINED
BITS_PER_PIXEL: 8
SAMPLES_AND_LINES: 5305 7591
HORIZONTAL_DATUM: NAD83
HORIZONTAL_COORDINATE_SYSTEM: UTM
COORDINATE_ZONE: 12
HORIZONTAL_UNITS: METERS
HORIZONTAL_RESOLUTION: 1.00000
SECONDARY_HORIZONTAL_DATUM: NAD27
XY_ORIGIN: 545470.00000 5414089.00000
SECONDARY_XY_ORIGIN: 545528.28400 5413869.98400
NATION: US
NATION: "SCIENCE
STATE: MT
NW_QUAD_CORNER_XY: 545828.24400 5413748.56300
NE_QUAD_CORNER_XY: 550411.04000 5413788.10500
SE_QUAD_CORNERY_XY: 550473.81000 5406840.53200
SW_QUAD_CORNER_XY: 545885.30700 5406800.97900
SECONDARY_NW_QUAD_XY: 545829.71200 5413529.56400
SECONDARY_NE_QUAD_XY: 550412.65500 5413569.10600
SECONDARY_SE_QUAD_XY: 550475.42500 5406621.53700
SECONDARY_SW_QUAD_XY: 545886.77500 5406581.98300
RMSE_XY: 1.00000
IMAGE_SOURCE: BLACK AND WHITE FILM
SOURCE_IMAGE_ID: NAPP 9177 116
SOURCE_IMAGE_DATE: 1997 09 04
SOURCE_DEM_DATE: 1970 00 00
AGENCY: WESTERN MAPPING CENTER (WMC)
PRODUCER: UNDEFINED
PRODUCTION_SYSTEM: GIS/MAGIC
COMPRESSION: UNDEFINED
STANDARD_VERSION: 1996 12
METADATA_DATE: 2000 11 08
DATA_FILE_SIZE: 40275560
BYTE_COUNT: 5305
