FILENAME: O4811013.NWS.1115065.tif
QUADRANGLE_NAME: MCKINNSEY RESERVOIR EAST
QUADRANT: NW
WEST_LONGITUDE: -110 30 0.00000
EAST_LONGITUDE: -110 26 15.00000
NORTH_LATITUDE: 48 52 30.00000
SOUTH_LATITUDE: 48 48 45.00000
PRODUCTION_DATE: 2000 10 13
RASTER_ORDER: LEFT_RIGHT/TOP_BOTTOM
BAND_ORGANIZATION: SINGLE FILE
BAND_CONTENT: BLACK&WHITE
BAND_CONTENT: UNDEFINED
BAND_CONTENT: UNDEFINED
BITS_PER_PIXEL: 8
SAMPLES_AND_LINES: 5294 7583
HORIZONTAL_DATUM: NAD83
HORIZONTAL_COORDINATE_SYSTEM: UTM
COORDINATE_ZONE: 12
HORIZONTAL_UNITS: METERS
HORIZONTAL_RESOLUTION: 1.00000
SECONDARY_HORIZONTAL_DATUM: NAD27
XY_ORIGIN: 536304.00000 5414013.00000
SECONDARY_XY_ORIGIN: 536362.58700 5413794.03400
NATION: US
NATION: "SCIENCE
STATE: MT
NW_QUAD_CORNER_XY: 536662.63000 5413680.77900
NE_QUAD_CORNER_XY: 541245.44000 5413712.78800
SE_QUAD_CORNERY_XY: 541296.79700 5406765.19300
SW_QUAD_CORNER_XY: 536708.28000 5406733.17500
SECONDARY_NW_QUAD_XY: 536663.80500 5413461.77700
SECONDARY_NE_QUAD_XY: 541246.76200 5413493.78700
SECONDARY_SE_QUAD_XY: 541298.11800 5406546.19600
SECONDARY_SW_QUAD_XY: 536709.45500 5406514.17600
RMSE_XY: 2.00000
IMAGE_SOURCE: BLACK AND WHITE FILM
SOURCE_IMAGE_ID: NAPP 9177 217
SOURCE_IMAGE_DATE: 1997 09 04
SOURCE_DEM_DATE: 1993 00 00
AGENCY: WESTERN MAPPING CENTER (WMC)
PRODUCER: UNDEFINED
PRODUCTION_SYSTEM: GIS/MAGIC
COMPRESSION: UNDEFINED
STANDARD_VERSION: 1996 12
METADATA_DATE: 2000 11 29
DATA_FILE_SIZE: 40149696
BYTE_COUNT: 5294
