FILENAME: O4811013.SES.1115066.tif
QUADRANGLE_NAME: MCKINNSEY RESERVOIR EAST
QUADRANT: SE
WEST_LONGITUDE: -110 26 15.00000
EAST_LONGITUDE: -110 22 30.00000
NORTH_LATITUDE: 48 48 45.00000
SOUTH_LATITUDE: 48 45 0.00000
PRODUCTION_DATE: 2000 10 13
RASTER_ORDER: LEFT_RIGHT/TOP_BOTTOM
BAND_ORGANIZATION: SINGLE FILE
BAND_CONTENT: BLACK&WHITE
BAND_CONTENT: UNDEFINED
BAND_CONTENT: UNDEFINED
BITS_PER_PIXEL: 8
SAMPLES_AND_LINES: 5306 7586
HORIZONTAL_DATUM: NAD83
HORIZONTAL_COORDINATE_SYSTEM: UTM
COORDINATE_ZONE: 12
HORIZONTAL_UNITS: METERS
HORIZONTAL_RESOLUTION: 1.00000
SECONDARY_HORIZONTAL_DATUM: NAD27
XY_ORIGIN: 540938.00000 5407101.00000
SECONDARY_XY_ORIGIN: 540996.52500 5406882.32200
NATION: US
NATION: "SCIENCE
STATE: MT
NW_QUAD_CORNER_XY: 541296.79700 5406765.19300
NE_QUAD_CORNER_XY: 545885.30700 5406800.97900
SE_QUAD_CORNERY_XY: 545942.31500 5399853.46900
SW_QUAD_CORNER_XY: 541348.10400 5399817.67400
SECONDARY_NW_QUAD_XY: 541298.11800 5406546.19600
SECONDARY_NE_QUAD_XY: 545886.77500 5406581.98300
SECONDARY_SE_QUAD_XY: 545943.78300 5399634.47700
SECONDARY_SW_QUAD_XY: 541349.42500 5399598.68000
RMSE_XY: 3.00000
IMAGE_SOURCE: BLACK AND WHITE FILM
SOURCE_IMAGE_ID: NAPP 9177 196
SOURCE_IMAGE_DATE: 1997 09 04
SOURCE_DEM_DATE: 1993 00 00
AGENCY: WESTERN MAPPING CENTER (WMC)
PRODUCER: UNDEFINED
PRODUCTION_SYSTEM: GIS/MAGIC
COMPRESSION: UNDEFINED
STANDARD_VERSION: 1996 12
METADATA_DATE: 2000 11 29
DATA_FILE_SIZE: 40256622
BYTE_COUNT: 5306
