FILENAME: O4811012.NES.1115555.tif
QUADRANGLE_NAME: MCKINNSEY RESERVOIR WEST
QUADRANT: NE
WEST_LONGITUDE: -110 33 45.00000
EAST_LONGITUDE: -110 30 0.00000
NORTH_LATITUDE: 48 52 30.00000
SOUTH_LATITUDE: 48 48 45.00000
PRODUCTION_DATE: 2000 11 2
RASTER_ORDER: LEFT_RIGHT/TOP_BOTTOM
BAND_ORGANIZATION: SINGLE FILE
BAND_CONTENT: BLACK&WHITE
BAND_CONTENT: UNDEFINED
BAND_CONTENT: UNDEFINED
BITS_PER_PIXEL: 8
SAMPLES_AND_LINES: 5289 7579
HORIZONTAL_DATUM: NAD83
HORIZONTAL_COORDINATE_SYSTEM: UTM
COORDINATE_ZONE: 12
HORIZONTAL_UNITS: METERS
HORIZONTAL_RESOLUTION: 1.00000
SECONDARY_HORIZONTAL_DATUM: NAD27
XY_ORIGIN: 531721.00000 5413981.00000
SECONDARY_XY_ORIGIN: 531779.71900 5413762.05500
NATION: US
NATION: "SCIENCE
STATE: MT
NW_QUAD_CORNER_XY: 532079.81400 5413652.53600
NE_QUAD_CORNER_XY: 536662.63000 5413680.77900
SE_QUAD_CORNERY_XY: 536708.28000 5406733.17500
SW_QUAD_CORNER_XY: 532119.75800 5406704.92300
SECONDARY_NW_QUAD_XY: 532080.84200 5413433.53300
SECONDARY_NE_QUAD_XY: 536663.80500 5413461.77700
SECONDARY_SE_QUAD_XY: 536709.45500 5406514.17600
SECONDARY_SW_QUAD_XY: 532120.78500 5406485.92400
RMSE_XY: 1.90000
IMAGE_SOURCE: BLACK AND WHITE FILM
SOURCE_IMAGE_ID: NAPP 9167 110
SOURCE_IMAGE_DATE: 1996 08 26
SOURCE_DEM_DATE: 1970 00 00
AGENCY: WESTERN MAPPING CENTER (WMC)
PRODUCER: UNDEFINED
PRODUCTION_SYSTEM: GIS/MAGIC
COMPRESSION: UNDEFINED
STANDARD_VERSION: 1996 12
METADATA_DATE: 2000 11 29
DATA_FILE_SIZE: 40090620
BYTE_COUNT: 5289
