FILENAME: O4811012.SWS.1115558.tif
QUADRANGLE_NAME: MCKINNSEY RESERVOIR WEST
QUADRANT: SW
WEST_LONGITUDE: -110 37 30.00000
EAST_LONGITUDE: -110 33 45.00000
NORTH_LATITUDE: 48 48 45.00000
SOUTH_LATITUDE: 48 45 0.00000
PRODUCTION_DATE: 2000 11 2
RASTER_ORDER: LEFT_RIGHT/TOP_BOTTOM
BAND_ORGANIZATION: SINGLE FILE
BAND_CONTENT: BLACK&WHITE
BAND_CONTENT: UNDEFINED
BAND_CONTENT: UNDEFINED
BITS_PER_PIXEL: 8
SAMPLES_AND_LINES: 5289 7575
HORIZONTAL_DATUM: NAD83
HORIZONTAL_COORDINATE_SYSTEM: UTM
COORDINATE_ZONE: 12
HORIZONTAL_UNITS: METERS
HORIZONTAL_RESOLUTION: 1.00000
SECONDARY_HORIZONTAL_DATUM: NAD27
XY_ORIGIN: 527172.00000 5407005.00000
SECONDARY_XY_ORIGIN: 527230.94600 5406786.37200
NATION: US
NATION: "SCIENCE
STATE: MT
NW_QUAD_CORNER_XY: 527531.23000 5406680.43900
NE_QUAD_CORNER_XY: 532119.75800 5406704.92300
SE_QUAD_CORNERY_XY: 532159.66300 5399757.38600
SW_QUAD_CORNER_XY: 527565.43400 5399732.89500
SECONDARY_NW_QUAD_XY: 527532.11100 5406461.43900
SECONDARY_NE_QUAD_XY: 532120.78500 5406485.92400
SECONDARY_SE_QUAD_XY: 532160.69000 5399538.39100
SECONDARY_SW_QUAD_XY: 527566.31500 5399513.89900
RMSE_XY: 1.10000
IMAGE_SOURCE: BLACK AND WHITE FILM
SOURCE_IMAGE_ID: NAPP 9167 125
SOURCE_IMAGE_DATE: 1996 08 26
SOURCE_DEM_DATE: 1970 00 00
AGENCY: WESTERN MAPPING CENTER (WMC)
PRODUCER: UNDEFINED
PRODUCTION_SYSTEM: GIS/MAGIC
COMPRESSION: UNDEFINED
STANDARD_VERSION: 1996 12
METADATA_DATE: 2000 11 29
DATA_FILE_SIZE: 40069464
BYTE_COUNT: 5289
