FILENAME: O4811011.NES.1115531.tif
QUADRANGLE_NAME: GOLDSTONE SW
QUADRANT: NE
WEST_LONGITUDE: -110 41 15.00000
EAST_LONGITUDE: -110 37 30.00000
NORTH_LATITUDE: 48 52 30.00000
SOUTH_LATITUDE: 48 48 45.00000
PRODUCTION_DATE: 2000 11 2
RASTER_ORDER: LEFT_RIGHT/TOP_BOTTOM
BAND_ORGANIZATION: SINGLE FILE
BAND_CONTENT: BLACK&WHITE
BAND_CONTENT: UNDEFINED
BAND_CONTENT: UNDEFINED
BITS_PER_PIXEL: 8
SAMPLES_AND_LINES: 5279 7572
HORIZONTAL_DATUM: NAD83
HORIZONTAL_COORDINATE_SYSTEM: UTM
COORDINATE_ZONE: 12
HORIZONTAL_UNITS: METERS
HORIZONTAL_RESOLUTION: 1.00000
SECONDARY_HORIZONTAL_DATUM: NAD27
XY_ORIGIN: 522554.00000 5413929.00000
SECONDARY_XY_ORIGIN: 522612.98300 5413710.10000
NATION: US
NATION: "SCIENCE
STATE: MT
NW_QUAD_CORNER_XY: 522914.16800 5413607.34700
NE_QUAD_CORNER_XY: 527496.99300 5413628.05800
SE_QUAD_CORNERY_XY: 527531.23000 5406680.43900
SW_QUAD_CORNER_XY: 522942.69800 5406659.72100
SECONDARY_NW_QUAD_XY: 522914.90200 5413388.34200
SECONDARY_NE_QUAD_XY: 527497.87400 5413409.05500
SECONDARY_SE_QUAD_XY: 527532.11100 5406461.43900
SECONDARY_SW_QUAD_XY: 522943.43300 5406440.72000
RMSE_XY: 1.40000
IMAGE_SOURCE: BLACK AND WHITE FILM
SOURCE_IMAGE_ID: NAPP 9167 208
SOURCE_IMAGE_DATE: 1996 08 26
SOURCE_DEM_DATE: 1993 00 00
AGENCY: WESTERN MAPPING CENTER (WMC)
PRODUCER: UNDEFINED
PRODUCTION_SYSTEM: GIS/MAGIC
COMPRESSION: UNDEFINED
STANDARD_VERSION: 1996 12
METADATA_DATE: 2000 11 29
DATA_FILE_SIZE: 39977867
BYTE_COUNT: 5279
