FILENAME: O4811010.SES.1115505.tif
QUADRANGLE_NAME: BOBCAT COULEE SE
QUADRANT: SE
WEST_LONGITUDE: -110 48 45.00000
EAST_LONGITUDE: -110 45 0.00000
NORTH_LATITUDE: 48 48 45.00000
SOUTH_LATITUDE: 48 45 0.00000
PRODUCTION_DATE: 2000 11 1
RASTER_ORDER: LEFT_RIGHT/TOP_BOTTOM
BAND_ORGANIZATION: SINGLE FILE
BAND_CONTENT: BLACK&WHITE
BAND_CONTENT: UNDEFINED
BAND_CONTENT: UNDEFINED
BITS_PER_PIXEL: 8
SAMPLES_AND_LINES: 5273 7564
HORIZONTAL_DATUM: NAD83
HORIZONTAL_COORDINATE_SYSTEM: UTM
COORDINATE_ZONE: 12
HORIZONTAL_UNITS: METERS
HORIZONTAL_RESOLUTION: 1.00000
SECONDARY_HORIZONTAL_DATUM: NAD27
XY_ORIGIN: 513405.00000 5406943.00000
SECONDARY_XY_ORIGIN: 513464.18100 5406724.31400
NATION: US
NATION: "SCIENCE
STATE: MT
NW_QUAD_CORNER_XY: 513765.62500 5406629.58700
NE_QUAD_CORNER_XY: 518354.16300 5406642.77100
SE_QUAD_CORNERY_XY: 518376.96600 5399695.21600
SW_QUAD_CORNER_XY: 513782.72700 5399682.02800
SECONDARY_NW_QUAD_XY: 513766.06500 5406410.58500
SECONDARY_NE_QUAD_XY: 518354.75000 5406423.76900
SECONDARY_SE_QUAD_XY: 518377.55300 5399476.21900
SECONDARY_SW_QUAD_XY: 513783.16700 5399463.03100
RMSE_XY: 1.40000
IMAGE_SOURCE: BLACK AND WHITE FILM
SOURCE_IMAGE_ID: NAPP 9167 313
SOURCE_IMAGE_DATE: 1996 08 26
SOURCE_DEM_DATE: 1962 00 00
AGENCY: WESTERN MAPPING CENTER (WMC)
PRODUCER: UNDEFINED
PRODUCTION_SYSTEM: GIS/MAGIC
COMPRESSION: UNDEFINED
STANDARD_VERSION: 1996 12
METADATA_DATE: 2000 11 07
DATA_FILE_SIZE: 39890245
BYTE_COUNT: 5273
