FILENAME: O4811009.NES.1115495.tif
QUADRANGLE_NAME: VAVER RESERVOIR
QUADRANT: NE
WEST_LONGITUDE: -110 56 15.00000
EAST_LONGITUDE: -110 52 30.00000
NORTH_LATITUDE: 48 52 30.00000
SOUTH_LATITUDE: 48 48 45.00000
PRODUCTION_DATE: 2000 11 1
RASTER_ORDER: LEFT_RIGHT/TOP_BOTTOM
BAND_ORGANIZATION: SINGLE FILE
BAND_CONTENT: BLACK&WHITE
BAND_CONTENT: UNDEFINED
BAND_CONTENT: UNDEFINED
BITS_PER_PIXEL: 8
SAMPLES_AND_LINES: 5256 7556
HORIZONTAL_DATUM: NAD83
HORIZONTAL_COORDINATE_SYSTEM: UTM
COORDINATE_ZONE: 12
HORIZONTAL_UNITS: METERS
HORIZONTAL_RESOLUTION: 1.00000
SECONDARY_HORIZONTAL_DATUM: NAD27
XY_ORIGIN: 504223.00000 5413868.00000
SECONDARY_XY_ORIGIN: 504281.82200 5413648.72500
NATION: US
NATION: "SCIENCE
STATE: MT
NW_QUAD_CORNER_XY: 504582.83600 5413562.15800
NE_QUAD_CORNER_XY: 509165.67200 5413567.80700
SE_QUAD_CORNERY_XY: 509177.08400 5406620.17000
SW_QUAD_CORNER_XY: 504588.54300 5406614.51900
SECONDARY_NW_QUAD_XY: 504582.98300 5413343.15200
SECONDARY_NE_QUAD_XY: 509165.96600 5413348.80100
SECONDARY_SE_QUAD_XY: 509177.37800 5406401.16700
SECONDARY_SW_QUAD_XY: 504588.68900 5406395.51700
RMSE_XY: 0.90000
IMAGE_SOURCE: BLACK AND WHITE FILM
SOURCE_IMAGE_ID: NAPP 9169 033
SOURCE_IMAGE_DATE: 1997 07 25
SOURCE_IMAGE_ID: NAPP 9169 032
SOURCE_IMAGE_DATE: 1997 07 25
SOURCE_DEM_DATE: 1962 00 00
AGENCY: WESTERN MAPPING CENTER (WMC)
PRODUCER: UNDEFINED
PRODUCTION_SYSTEM: GIS/MAGIC
COMPRESSION: UNDEFINED
STANDARD_VERSION: 1996 12
METADATA_DATE: 2000 11 29
DATA_FILE_SIZE: 39719592
BYTE_COUNT: 5256
