FILENAME: O4811009.NWS.1115496.tif
QUADRANGLE_NAME: VAVER RESERVOIR
QUADRANT: NW
WEST_LONGITUDE: -111 0 0.00000
EAST_LONGITUDE: -110 56 15.00000
NORTH_LATITUDE: 48 52 30.00000
SOUTH_LATITUDE: 48 48 45.00000
PRODUCTION_DATE: 2000 11 1
RASTER_ORDER: LEFT_RIGHT/TOP_BOTTOM
BAND_ORGANIZATION: SINGLE FILE
BAND_CONTENT: BLACK&WHITE
BAND_CONTENT: UNDEFINED
BAND_CONTENT: UNDEFINED
BITS_PER_PIXEL: 8
SAMPLES_AND_LINES: 5251 7553
HORIZONTAL_DATUM: NAD83
HORIZONTAL_COORDINATE_SYSTEM: UTM
COORDINATE_ZONE: 12
HORIZONTAL_UNITS: METERS
HORIZONTAL_RESOLUTION: 1.00000
SECONDARY_HORIZONTAL_DATUM: NAD27
XY_ORIGIN: 499639.00000 5413863.00000
SECONDARY_XY_ORIGIN: 499697.72300 5413643.59100
NATION: US
NATION: "SCIENCE
STATE: MT
NW_QUAD_CORNER_XY: 500000.00000 5413560.27500
NE_QUAD_CORNER_XY: 504582.83600 5413562.15800
SE_QUAD_CORNERY_XY: 504588.54300 5406614.51900
SW_QUAD_CORNER_XY: 500000.00000 5406612.63600
SECONDARY_NW_QUAD_XY: 500000.00000 5413341.26900
SECONDARY_NE_QUAD_XY: 504582.98300 5413343.15200
SECONDARY_SE_QUAD_XY: 504588.68900 5406395.51700
SECONDARY_SW_QUAD_XY: 500000.00000 5406393.63400
RMSE_XY: 1.20000
IMAGE_SOURCE: BLACK AND WHITE FILM
SOURCE_IMAGE_ID: NAPP 9169 046
SOURCE_IMAGE_DATE: 1997 07 25
SOURCE_IMAGE_ID: NAPP 9169 047
SOURCE_IMAGE_DATE: 1997 07 25
SOURCE_DEM_DATE: 1962 00 00
AGENCY: WESTERN MAPPING CENTER (WMC)
PRODUCER: UNDEFINED
PRODUCTION_SYSTEM: GIS/MAGIC
COMPRESSION: UNDEFINED
STANDARD_VERSION: 1996 12
METADATA_DATE: 2000 11 29
DATA_FILE_SIZE: 39666054
BYTE_COUNT: 5251
