FILENAME: O4811009.SES.1115497.tif
QUADRANGLE_NAME: VAVER RESERVOIR
QUADRANT: SE
WEST_LONGITUDE: -110 56 15.00000
EAST_LONGITUDE: -110 52 30.00000
NORTH_LATITUDE: 48 48 45.00000
SOUTH_LATITUDE: 48 45 0.00000
PRODUCTION_DATE: 2000 11 1
RASTER_ORDER: LEFT_RIGHT/TOP_BOTTOM
BAND_ORGANIZATION: SINGLE FILE
BAND_CONTENT: BLACK&WHITE
BAND_CONTENT: UNDEFINED
BAND_CONTENT: UNDEFINED
BITS_PER_PIXEL: 8
SAMPLES_AND_LINES: 5262 7557
HORIZONTAL_DATUM: NAD83
HORIZONTAL_COORDINATE_SYSTEM: UTM
COORDINATE_ZONE: 12
HORIZONTAL_UNITS: METERS
HORIZONTAL_RESOLUTION: 1.00000
SECONDARY_HORIZONTAL_DATUM: NAD27
XY_ORIGIN: 504228.00000 5406921.00000
SECONDARY_XY_ORIGIN: 504287.09800 5406702.12500
NATION: US
NATION: "SCIENCE
STATE: MT
NW_QUAD_CORNER_XY: 504588.54300 5406614.51900
NE_QUAD_CORNER_XY: 509177.08400 5406620.17000
SE_QUAD_CORNERY_XY: 509188.48600 5399672.60800
SW_QUAD_CORNER_XY: 504594.24300 5399666.95700
SECONDARY_NW_QUAD_XY: 504588.68900 5406395.51700
SECONDARY_NE_QUAD_XY: 509177.37800 5406401.16700
SECONDARY_SE_QUAD_XY: 509188.77900 5399453.61000
SECONDARY_SW_QUAD_XY: 504594.39000 5399447.95800
RMSE_XY: 0.80000
IMAGE_SOURCE: BLACK AND WHITE FILM
SOURCE_IMAGE_ID: NAPP 9169 031
SOURCE_IMAGE_DATE: 1997 07 25
SOURCE_DEM_DATE: 1962 00 00
AGENCY: WESTERN MAPPING CENTER (WMC)
PRODUCER: UNDEFINED
PRODUCTION_SYSTEM: GIS/MAGIC
COMPRESSION: UNDEFINED
STANDARD_VERSION: 1996 12
METADATA_DATE: 2000 11 29
DATA_FILE_SIZE: 39770196
BYTE_COUNT: 5262
