FILENAME: O4811009.SWS.1115498.tif
QUADRANGLE_NAME: VAVER RESERVOIR
QUADRANT: SW
WEST_LONGITUDE: -111 0 0.00000
EAST_LONGITUDE: -110 56 15.00000
NORTH_LATITUDE: 48 48 45.00000
SOUTH_LATITUDE: 48 45 0.00000
PRODUCTION_DATE: 2000 11 1
RASTER_ORDER: LEFT_RIGHT/TOP_BOTTOM
BAND_ORGANIZATION: SINGLE FILE
BAND_CONTENT: BLACK&WHITE
BAND_CONTENT: UNDEFINED
BAND_CONTENT: UNDEFINED
BITS_PER_PIXEL: 8
SAMPLES_AND_LINES: 5257 7553
HORIZONTAL_DATUM: NAD83
HORIZONTAL_COORDINATE_SYSTEM: UTM
COORDINATE_ZONE: 12
HORIZONTAL_UNITS: METERS
HORIZONTAL_RESOLUTION: 1.00000
SECONDARY_HORIZONTAL_DATUM: NAD27
XY_ORIGIN: 499639.00000 5406915.00000
SECONDARY_XY_ORIGIN: 499698.05600 5406696.03100
NATION: US
NATION: "SCIENCE
STATE: MT
NW_QUAD_CORNER_XY: 500000.00000 5406612.63600
NE_QUAD_CORNER_XY: 504588.54300 5406614.51900
SE_QUAD_CORNERY_XY: 504594.24300 5399666.95700
SW_QUAD_CORNER_XY: 500000.00000 5399665.07300
SECONDARY_NW_QUAD_XY: 500000.00000 5406393.63400
SECONDARY_NE_QUAD_XY: 504588.68900 5406395.51700
SECONDARY_SE_QUAD_XY: 504594.39000 5399447.95800
SECONDARY_SW_QUAD_XY: 500000.00000 5399446.07400
RMSE_XY: 1.20000
IMAGE_SOURCE: BLACK AND WHITE FILM
SOURCE_IMAGE_ID: NAPP 9169 048
SOURCE_IMAGE_DATE: 1997 07 25
SOURCE_DEM_DATE: 1962 00 00
AGENCY: WESTERN MAPPING CENTER (WMC)
PRODUCER: UNDEFINED
PRODUCTION_SYSTEM: GIS/MAGIC
COMPRESSION: UNDEFINED
STANDARD_VERSION: 1996 12
METADATA_DATE: 2000 11 29
DATA_FILE_SIZE: 39711378
BYTE_COUNT: 5257
