FILENAME: O4811008.SWS.1115123.tif
QUADRANGLE_NAME: WILD HORSE LAKE WEST
QUADRANT: SW
WEST_LONGITUDE: -110 7 30.00000
EAST_LONGITUDE: -110 3 45.00000
NORTH_LATITUDE: 48 56 15.00000
SOUTH_LATITUDE: 48 52 30.00000
PRODUCTION_DATE: 2000 10 12
RASTER_ORDER: LEFT_RIGHT/TOP_BOTTOM
BAND_ORGANIZATION: SINGLE FILE
BAND_CONTENT: BLACK&WHITE
BAND_CONTENT: UNDEFINED
BAND_CONTENT: UNDEFINED
BITS_PER_PIXEL: 8
SAMPLES_AND_LINES: 5322 7605
HORIZONTAL_DATUM: NAD83
HORIZONTAL_COORDINATE_SYSTEM: UTM
COORDINATE_ZONE: 12
HORIZONTAL_UNITS: METERS
HORIZONTAL_RESOLUTION: 1.00000
SECONDARY_HORIZONTAL_DATUM: NAD27
XY_ORIGIN: 563722.00000 5421232.00000
SECONDARY_XY_ORIGIN: 563779.89700 5421012.67300
NATION: US
NATION: "SCIENCE
STATE: MT
NW_QUAD_CORNER_XY: 564079.41100 5420876.93100
NE_QUAD_CORNER_XY: 568656.45800 5420931.52200
SE_QUAD_CORNERY_XY: 568742.13800 5413983.93200
SW_QUAD_CORNER_XY: 564159.37800 5413929.32600
SECONDARY_NW_QUAD_XY: 564081.46600 5420657.93500
SECONDARY_NE_QUAD_XY: 568658.66000 5420712.52700
SECONDARY_SE_QUAD_XY: 568744.34100 5413764.94000
SECONDARY_SW_QUAD_XY: 564161.43400 5413710.33200
RMSE_XY: 3.00000
IMAGE_SOURCE: BLACK AND WHITE FILM
SOURCE_IMAGE_ID: NAPP 9178 241
SOURCE_IMAGE_DATE: 1997 09 04
SOURCE_DEM_DATE: 1993 00 00
AGENCY: WESTERN MAPPING CENTER (WMC)
PRODUCER: UNDEFINED
PRODUCTION_SYSTEM: GIS/MAGIC
COMPRESSION: UNDEFINED
STANDARD_VERSION: 1996 12
METADATA_DATE: 2000 11 29
DATA_FILE_SIZE: 40479132
BYTE_COUNT: 5322
