FILENAME: O4811007.SES.1115098.tif
QUADRANGLE_NAME: SIMPSON
QUADRANT: SE
WEST_LONGITUDE: -110 11 15.00000
EAST_LONGITUDE: -110 7 30.00000
NORTH_LATITUDE: 48 56 15.00000
SOUTH_LATITUDE: 48 52 30.00000
PRODUCTION_DATE: 2000 10 13
RASTER_ORDER: LEFT_RIGHT/TOP_BOTTOM
BAND_ORGANIZATION: SINGLE FILE
BAND_CONTENT: BLACK&WHITE
BAND_CONTENT: UNDEFINED
BAND_CONTENT: UNDEFINED
BITS_PER_PIXEL: 8
SAMPLES_AND_LINES: 5316 7602
HORIZONTAL_DATUM: NAD83
HORIZONTAL_COORDINATE_SYSTEM: UTM
COORDINATE_ZONE: 12
HORIZONTAL_UNITS: METERS
HORIZONTAL_RESOLUTION: 1.00000
SECONDARY_HORIZONTAL_DATUM: NAD27
XY_ORIGIN: 559145.00000 5421178.00000
SECONDARY_XY_ORIGIN: 559202.88400 5420958.64500
NATION: US
NATION: "SCIENCE
STATE: MT
NW_QUAD_CORNER_XY: 559502.35300 5420826.10700
NE_QUAD_CORNER_XY: 564079.41100 5420876.93100
SE_QUAD_CORNERY_XY: 564159.37800 5413929.32600
SW_QUAD_CORNER_XY: 559576.60800 5413878.48600
SECONDARY_NW_QUAD_XY: 559504.26200 5420607.10800
SECONDARY_NE_QUAD_XY: 564081.46600 5420657.93500
SECONDARY_SE_QUAD_XY: 564161.43400 5413710.33200
SECONDARY_SW_QUAD_XY: 559578.51700 5413659.49000
RMSE_XY: 2.00000
IMAGE_SOURCE: BLACK AND WHITE FILM
SOURCE_IMAGE_ID: NAPP 9179 066
SOURCE_IMAGE_DATE: 1997 09 04
SOURCE_DEM_DATE: 1970 00 00
AGENCY: WESTERN MAPPING CENTER (WMC)
PRODUCER: UNDEFINED
PRODUCTION_SYSTEM: GIS/MAGIC
COMPRESSION: UNDEFINED
STANDARD_VERSION: 1996 12
METADATA_DATE: 2000 11 29
DATA_FILE_SIZE: 40417548
BYTE_COUNT: 5316
