FILENAME: O4811006.NWS.1115085.tif
QUADRANGLE_NAME: LOST RIVER NE
QUADRANT: NW
WEST_LONGITUDE: -110 22 30.00000
EAST_LONGITUDE: -110 18 45.00000
NORTH_LATITUDE: 49 0 0.00000
SOUTH_LATITUDE: 48 56 15.00000
PRODUCTION_DATE: 2000 11 2
RASTER_ORDER: LEFT_RIGHT/TOP_BOTTOM
BAND_ORGANIZATION: SINGLE FILE
BAND_CONTENT: BLACK&WHITE
BAND_CONTENT: UNDEFINED
BAND_CONTENT: UNDEFINED
BITS_PER_PIXEL: 8
SAMPLES_AND_LINES: 5294 7591
HORIZONTAL_DATUM: NAD83
HORIZONTAL_COORDINATE_SYSTEM: UTM
COORDINATE_ZONE: 12
HORIZONTAL_UNITS: METERS
HORIZONTAL_RESOLUTION: 1.00000
SECONDARY_HORIZONTAL_DATUM: NAD27
XY_ORIGIN: 545356.00000 5427985.00000
SECONDARY_XY_ORIGIN: 545414.10000 5427765.35900
NATION: US
NATION: CA
NATION: "SCIENCE
STATE: MT
NW_QUAD_CORNER_XY: 545713.95300 5427643.95700
NE_QUAD_CORNER_XY: 550285.31900 5427683.47400
SE_QUAD_CORNERY_XY: 550348.21000 5420735.75200
SW_QUAD_CORNER_XY: 545771.12600 5420696.22300
SECONDARY_NW_QUAD_XY: 545715.42100 5427424.95200
SECONDARY_NE_QUAD_XY: 550286.93400 5427464.47100
SECONDARY_SE_QUAD_XY: 550349.82500 5420516.75100
SECONDARY_SW_QUAD_XY: 545772.59400 5420477.22000
RMSE_XY: 0.80000
IMAGE_SOURCE: BLACK AND WHITE FILM
SOURCE_IMAGE_ID: NAPP 9177 112
SOURCE_IMAGE_DATE: 1997 09 04
SOURCE_DEM_DATE: 1970 00 00
AGENCY: WESTERN MAPPING CENTER (WMC)
PRODUCER: UNDEFINED
PRODUCTION_SYSTEM: GIS/MAGIC
COMPRESSION: UNDEFINED
STANDARD_VERSION: 1996 12
METADATA_DATE: 2000 11 29
DATA_FILE_SIZE: 40192048
BYTE_COUNT: 5294
