FILENAME: O4811006.SES.1115086.tif
QUADRANGLE_NAME: LOST RIVER NE
QUADRANT: SE
WEST_LONGITUDE: -110 18 45.00000
EAST_LONGITUDE: -110 15 0.00000
NORTH_LATITUDE: 48 56 15.00000
SOUTH_LATITUDE: 48 52 30.00000
PRODUCTION_DATE: 2000 10 13
RASTER_ORDER: LEFT_RIGHT/TOP_BOTTOM
BAND_ORGANIZATION: SINGLE FILE
BAND_CONTENT: BLACK&WHITE
BAND_CONTENT: UNDEFINED
BAND_CONTENT: UNDEFINED
BITS_PER_PIXEL: 8
SAMPLES_AND_LINES: 5305 7594
HORIZONTAL_DATUM: NAD83
HORIZONTAL_COORDINATE_SYSTEM: UTM
COORDINATE_ZONE: 12
HORIZONTAL_UNITS: METERS
HORIZONTAL_RESOLUTION: 1.00000
SECONDARY_HORIZONTAL_DATUM: NAD27
XY_ORIGIN: 549990.00000 5421080.00000
SECONDARY_XY_ORIGIN: 550048.03800 5420860.64400
NATION: US
NATION: "SCIENCE
STATE: MT
NW_QUAD_CORNER_XY: 550348.21000 5420735.75200
NE_QUAD_CORNER_XY: 554925.28600 5420779.04700
SE_QUAD_CORNERY_XY: 554993.82900 5413831.41200
SW_QUAD_CORNER_XY: 550411.04000 5413788.10500
SECONDARY_NW_QUAD_XY: 550349.82500 5420516.75100
SECONDARY_NE_QUAD_XY: 554927.04800 5420560.04700
SECONDARY_SE_QUAD_XY: 554995.59100 5413612.41500
SECONDARY_SW_QUAD_XY: 550412.65500 5413569.10600
RMSE_XY: 0.80000
IMAGE_SOURCE: BLACK AND WHITE FILM
SOURCE_IMAGE_ID: NAPP 9177 105
SOURCE_IMAGE_DATE: 1997 09 04
SOURCE_DEM_DATE: 1970 00 00
AGENCY: WESTERN MAPPING CENTER (WMC)
PRODUCER: UNDEFINED
PRODUCTION_SYSTEM: GIS/MAGIC
COMPRESSION: UNDEFINED
STANDARD_VERSION: 1996 12
METADATA_DATE: 2000 11 29
DATA_FILE_SIZE: 40291475
BYTE_COUNT: 5305
