FILENAME: O4811005.NES.1115060.tif
QUADRANGLE_NAME: LOST RIVER
QUADRANT: NE
WEST_LONGITUDE: -110 26 15.00000
EAST_LONGITUDE: -110 22 30.00000
NORTH_LATITUDE: 49 0 0.00000
SOUTH_LATITUDE: 48 56 15.00000
PRODUCTION_DATE: 2000 11 2
RASTER_ORDER: LEFT_RIGHT/TOP_BOTTOM
BAND_ORGANIZATION: SINGLE FILE
BAND_CONTENT: BLACK&WHITE
BAND_CONTENT: UNDEFINED
BAND_CONTENT: UNDEFINED
BITS_PER_PIXEL: 8
SAMPLES_AND_LINES: 5289 7587
HORIZONTAL_DATUM: NAD83
HORIZONTAL_COORDINATE_SYSTEM: UTM
COORDINATE_ZONE: 12
HORIZONTAL_UNITS: METERS
HORIZONTAL_RESOLUTION: 1.00000
SECONDARY_HORIZONTAL_DATUM: NAD27
XY_ORIGIN: 540784.00000 5427945.00000
SECONDARY_XY_ORIGIN: 540842.25600 5427725.38700
NATION: US
NATION: CA
NATION: "SCIENCE
STATE: MT
NW_QUAD_CORNER_XY: 541142.57900 5427608.20300
NE_QUAD_CORNER_XY: 545713.95300 5427643.95700
SE_QUAD_CORNERY_XY: 545771.12600 5420696.22300
SW_QUAD_CORNER_XY: 541194.03400 5420660.45800
SECONDARY_NW_QUAD_XY: 541143.90000 5427389.19700
SECONDARY_NE_QUAD_XY: 545715.42100 5427424.95200
SECONDARY_SE_QUAD_XY: 545772.59400 5420477.22000
SECONDARY_SW_QUAD_XY: 541195.35600 5420441.45400
RMSE_XY: 0.90000
IMAGE_SOURCE: BLACK AND WHITE FILM
SOURCE_IMAGE_ID: NAPP 9177 202
SOURCE_IMAGE_DATE: 1997 09 04
SOURCE_IMAGE_ID: NAPP 9177 203
SOURCE_IMAGE_DATE: 1997 09 04
SOURCE_DEM_DATE: 1970 00 00
AGENCY: WESTERN MAPPING CENTER (WMC)
PRODUCER: UNDEFINED
PRODUCTION_SYSTEM: GIS/MAGIC
COMPRESSION: UNDEFINED
STANDARD_VERSION: 1996 12
METADATA_DATE: 2000 11 29
DATA_FILE_SIZE: 40132932
BYTE_COUNT: 5289
