FILENAME: O4811004.SES.1115553.tif
QUADRANGLE_NAME: GOLDSTONE
QUADRANT: SE
WEST_LONGITUDE: -110 33 45.00000
EAST_LONGITUDE: -110 30 0.00000
NORTH_LATITUDE: 48 56 15.00000
SOUTH_LATITUDE: 48 52 30.00000
PRODUCTION_DATE: 2000 11 2
RASTER_ORDER: LEFT_RIGHT/TOP_BOTTOM
BAND_ORGANIZATION: SINGLE FILE
BAND_CONTENT: BLACK&WHITE
BAND_CONTENT: UNDEFINED
BAND_CONTENT: UNDEFINED
BITS_PER_PIXEL: 8
SAMPLES_AND_LINES: 5283 7579
HORIZONTAL_DATUM: NAD83
HORIZONTAL_COORDINATE_SYSTEM: UTM
COORDINATE_ZONE: 12
HORIZONTAL_UNITS: METERS
HORIZONTAL_RESOLUTION: 1.00000
SECONDARY_HORIZONTAL_DATUM: NAD27
XY_ORIGIN: 531681.00000 5420929.00000
SECONDARY_XY_ORIGIN: 531739.62700 5420709.75300
NATION: US
NATION: "SCIENCE
STATE: MT
NW_QUAD_CORNER_XY: 532039.83200 5420600.22300
NE_QUAD_CORNER_XY: 536616.93600 5420628.45800
SE_QUAD_CORNERY_XY: 536662.63000 5413680.77900
SW_QUAD_CORNER_XY: 532079.81400 5413652.53600
SECONDARY_NW_QUAD_XY: 532040.86000 5420381.21800
SECONDARY_NE_QUAD_XY: 536618.11100 5420409.45400
SECONDARY_SE_QUAD_XY: 536663.80500 5413461.77700
SECONDARY_SW_QUAD_XY: 532080.84200 5413433.53300
RMSE_XY: 0.80000
IMAGE_SOURCE: BLACK AND WHITE FILM
SOURCE_IMAGE_ID: NAPP 9167 112
SOURCE_IMAGE_DATE: 1996 08 26
SOURCE_IMAGE_ID: NAPP 9167 113
SOURCE_IMAGE_DATE: 1996 08 26
SOURCE_DEM_DATE: 1970 00 00
AGENCY: WESTERN MAPPING CENTER (WMC)
PRODUCER: UNDEFINED
PRODUCTION_SYSTEM: GIS/MAGIC
COMPRESSION: UNDEFINED
STANDARD_VERSION: 1996 12
METADATA_DATE: 2000 11 29
DATA_FILE_SIZE: 40045140
BYTE_COUNT: 5283
