FILENAME: O4811003.NES.1115527.tif
QUADRANGLE_NAME: LAIRD LAKE
QUADRANT: NE
WEST_LONGITUDE: -110 41 15.00000
EAST_LONGITUDE: -110 37 30.00000
NORTH_LATITUDE: 49 0 0.00000
SOUTH_LATITUDE: 48 56 15.00000
PRODUCTION_DATE: 2000 11 2
RASTER_ORDER: LEFT_RIGHT/TOP_BOTTOM
BAND_ORGANIZATION: SINGLE FILE
BAND_CONTENT: BLACK&WHITE
BAND_CONTENT: UNDEFINED
BAND_CONTENT: UNDEFINED
BITS_PER_PIXEL: 8
SAMPLES_AND_LINES: 5267 7572
HORIZONTAL_DATUM: NAD83
HORIZONTAL_COORDINATE_SYSTEM: UTM
COORDINATE_ZONE: 12
HORIZONTAL_UNITS: METERS
HORIZONTAL_RESOLUTION: 1.00000
SECONDARY_HORIZONTAL_DATUM: NAD27
XY_ORIGIN: 522497.00000 5427825.00000
SECONDARY_XY_ORIGIN: 522555.78600 5427605.53000
NATION: US
NATION: CA
NATION: "SCIENCE
STATE: MT
NW_QUAD_CORNER_XY: 522857.02300 5427502.82400
NE_QUAD_CORNER_XY: 527428.42000 5427523.52300
SE_QUAD_CORNERY_XY: 527462.72300 5420575.75300
SW_QUAD_CORNER_XY: 522885.60900 5420555.04800
SECONDARY_NW_QUAD_XY: 522857.75700 5427283.81500
SECONDARY_NE_QUAD_XY: 527429.30100 5427304.51500
SECONDARY_SE_QUAD_XY: 527463.60400 5420356.74700
SECONDARY_SW_QUAD_XY: 522886.34300 5420336.04100
RMSE_XY: 0.70000
IMAGE_SOURCE: BLACK AND WHITE FILM
SOURCE_IMAGE_ID: NAPP 9167 212
SOURCE_IMAGE_DATE: 1996 08 26
SOURCE_IMAGE_ID: NAPP 9167 213
SOURCE_IMAGE_DATE: 1996 08 26
SOURCE_DEM_DATE: 1970 00 00
AGENCY: WESTERN MAPPING CENTER (WMC)
PRODUCER: UNDEFINED
PRODUCTION_SYSTEM: GIS/MAGIC
COMPRESSION: UNDEFINED
STANDARD_VERSION: 1996 12
METADATA_DATE: 2000 11 29
DATA_FILE_SIZE: 39886991
BYTE_COUNT: 5267
