FILENAME: O4811003.SWS.1115530.tif
QUADRANGLE_NAME: LAIRD LAKE
QUADRANT: SW
WEST_LONGITUDE: -110 45 0.00000
EAST_LONGITUDE: -110 41 15.00000
NORTH_LATITUDE: 48 56 15.00000
SOUTH_LATITUDE: 48 52 30.00000
PRODUCTION_DATE: 2000 11 2
RASTER_ORDER: LEFT_RIGHT/TOP_BOTTOM
BAND_ORGANIZATION: SINGLE FILE
BAND_CONTENT: BLACK&WHITE
BAND_CONTENT: UNDEFINED
BAND_CONTENT: UNDEFINED
BITS_PER_PIXEL: 8
SAMPLES_AND_LINES: 5267 7568
HORIZONTAL_DATUM: NAD83
HORIZONTAL_COORDINATE_SYSTEM: UTM
COORDINATE_ZONE: 12
HORIZONTAL_UNITS: METERS
HORIZONTAL_RESOLUTION: 1.00000
SECONDARY_HORIZONTAL_DATUM: NAD27
XY_ORIGIN: 517949.00000 5420856.00000
SECONDARY_XY_ORIGIN: 518008.01300 5420636.84500
NATION: US
NATION: "SCIENCE
STATE: MT
NW_QUAD_CORNER_XY: 518308.49200 5420538.10700
NE_QUAD_CORNER_XY: 522885.60900 5420555.04800
SE_QUAD_CORNERY_XY: 522914.16800 5413607.34700
SW_QUAD_CORNER_XY: 518331.33800 5413590.40100
SECONDARY_NW_QUAD_XY: 518309.07900 5420319.09900
SECONDARY_NE_QUAD_XY: 522886.34300 5420336.04100
SECONDARY_SE_QUAD_XY: 522914.90200 5413388.34200
SECONDARY_SW_QUAD_XY: 518331.92600 5413371.39600
RMSE_XY: 0.80000
IMAGE_SOURCE: BLACK AND WHITE FILM
SOURCE_IMAGE_ID: NAPP 9177 209
SOURCE_IMAGE_DATE: 1997 09 04
SOURCE_DEM_DATE: 1970 00 00
AGENCY: WESTERN MAPPING CENTER (WMC)
PRODUCER: UNDEFINED
PRODUCTION_SYSTEM: GIS/MAGIC
COMPRESSION: UNDEFINED
STANDARD_VERSION: 1996 12
METADATA_DATE: 2000 11 29
DATA_FILE_SIZE: 39865923
BYTE_COUNT: 5267
