FILENAME: O4811163.NES.1078190.tif
QUADRANGLE_NAME: MCBRIDY SPRING
QUADRANT: NE
WEST_LONGITUDE: -111 11 15.00000
EAST_LONGITUDE: -111 7 30.00000
NORTH_LATITUDE: 48 7 30.00000
SOUTH_LATITUDE: 48 3 45.00000
PRODUCTION_DATE: 2000 5 4
RASTER_ORDER: LEFT_RIGHT/TOP_BOTTOM
BAND_ORGANIZATION: SINGLE FILE
BAND_CONTENT: BLACK&WHITE
BAND_CONTENT: UNDEFINED
BAND_CONTENT: UNDEFINED
BITS_PER_PIXEL: 8
SAMPLES_AND_LINES: 5331 7562
HORIZONTAL_DATUM: NAD83
HORIZONTAL_COORDINATE_SYSTEM: UTM
COORDINATE_ZONE: 12
HORIZONTAL_UNITS: METERS
HORIZONTAL_RESOLUTION: 1.00000
SECONDARY_HORIZONTAL_DATUM: NAD27
XY_ORIGIN: 485669.00000 5330511.00000
SECONDARY_XY_ORIGIN: 485728.65500 5330294.91000
NATION: US
NATION: "SCIENCE
STATE: MT
NW_QUAD_CORNER_XY: 486047.16700 5330210.60600
NE_QUAD_CORNER_XY: 490698.11000 5330201.16200
SE_QUAD_CORNERY_XY: 490686.83100 5323254.43400
SW_QUAD_CORNER_XY: 486030.24800 5323263.88100
SECONDARY_NW_QUAD_XY: 486046.72700 5329991.69800
SECONDARY_NE_QUAD_XY: 490697.81700 5329982.25400
SECONDARY_SE_QUAD_XY: 490686.53700 5323035.54000
SECONDARY_SW_QUAD_XY: 486029.80800 5323044.98600
RMSE_XY: 0.90000
IMAGE_SOURCE: BLACK AND WHITE FILM
SOURCE_IMAGE_ID: NAPP 9170 075
SOURCE_IMAGE_DATE: 1997 08 22
SOURCE_IMAGE_ID: NAPP 9170 076
SOURCE_IMAGE_DATE: 1997 08 22
SOURCE_DEM_DATE: 1969 00 00
AGENCY: WESTERN MAPPING CENTER (WMC)
PRODUCER: UNDEFINED
PRODUCTION_SYSTEM: GIS/MAGIC
COMPRESSION: UNDEFINED
STANDARD_VERSION: 1996 12
METADATA_DATE: 2000 06 02
DATA_FILE_SIZE: 40318353
BYTE_COUNT: 5331
