FILENAME: O4811163.NWS.1078191.tif
QUADRANGLE_NAME: MCBRIDY SPRING
QUADRANT: NW
WEST_LONGITUDE: -111 15 0.00000
EAST_LONGITUDE: -111 11 15.00000
NORTH_LATITUDE: 48 7 30.00000
SOUTH_LATITUDE: 48 3 45.00000
PRODUCTION_DATE: 2000 5 4
RASTER_ORDER: LEFT_RIGHT/TOP_BOTTOM
BAND_ORGANIZATION: SINGLE FILE
BAND_CONTENT: BLACK&WHITE
BAND_CONTENT: UNDEFINED
BAND_CONTENT: UNDEFINED
BITS_PER_PIXEL: 8
SAMPLES_AND_LINES: 5337 7566
HORIZONTAL_DATUM: NAD83
HORIZONTAL_COORDINATE_SYSTEM: UTM
COORDINATE_ZONE: 12
HORIZONTAL_UNITS: METERS
HORIZONTAL_RESOLUTION: 1.00000
SECONDARY_HORIZONTAL_DATUM: NAD27
XY_ORIGIN: 481012.00000 5330524.00000
SECONDARY_XY_ORIGIN: 481071.83300 5330307.89900
NATION: US
NATION: "SCIENCE
STATE: MT
NW_QUAD_CORNER_XY: 481396.22500 5330223.82800
NE_QUAD_CORNER_XY: 486047.16700 5330210.60600
SE_QUAD_CORNERY_XY: 486030.24800 5323263.88100
SW_QUAD_CORNER_XY: 481373.66700 5323277.10600
SECONDARY_NW_QUAD_XY: 481395.63800 5330004.92000
SECONDARY_NE_QUAD_XY: 486046.72700 5329991.69800
SECONDARY_SE_QUAD_XY: 486029.80800 5323044.98600
SECONDARY_SW_QUAD_XY: 481373.08000 5323058.21200
RMSE_XY: 0.80000
IMAGE_SOURCE: BLACK AND WHITE FILM
SOURCE_IMAGE_ID: NAPP 9170 014
SOURCE_IMAGE_DATE: 1997 08 22
SOURCE_DEM_DATE: 1969 00 00
AGENCY: WESTERN MAPPING CENTER (WMC)
PRODUCER: UNDEFINED
PRODUCTION_SYSTEM: GIS/MAGIC
COMPRESSION: UNDEFINED
STANDARD_VERSION: 1996 12
METADATA_DATE: 2000 06 02
DATA_FILE_SIZE: 40385079
BYTE_COUNT: 5337
