FILENAME: O4811163.SES.1078192.tif
QUADRANGLE_NAME: MCBRIDY SPRING
QUADRANT: SE
WEST_LONGITUDE: -111 11 15.00000
EAST_LONGITUDE: -111 7 30.00000
NORTH_LATITUDE: 48 3 45.00000
SOUTH_LATITUDE: 48 0 0.00000
PRODUCTION_DATE: 2000 5 4
RASTER_ORDER: LEFT_RIGHT/TOP_BOTTOM
BAND_ORGANIZATION: SINGLE FILE
BAND_CONTENT: BLACK&WHITE
BAND_CONTENT: UNDEFINED
BAND_CONTENT: UNDEFINED
BITS_PER_PIXEL: 8
SAMPLES_AND_LINES: 5336 7562
HORIZONTAL_DATUM: NAD83
HORIZONTAL_COORDINATE_SYSTEM: UTM
COORDINATE_ZONE: 12
HORIZONTAL_UNITS: METERS
HORIZONTAL_RESOLUTION: 1.00000
SECONDARY_HORIZONTAL_DATUM: NAD27
XY_ORIGIN: 485652.00000 5323564.00000
SECONDARY_XY_ORIGIN: 485711.56100 5323348.32100
NATION: US
NATION: "SCIENCE
STATE: MT
NW_QUAD_CORNER_XY: 486030.24800 5323263.88100
NE_QUAD_CORNER_XY: 490686.83100 5323254.43400
SE_QUAD_CORNERY_XY: 490675.56300 5316307.78300
SW_QUAD_CORNER_XY: 486013.34600 5316317.23100
SECONDARY_NW_QUAD_XY: 486029.80800 5323044.98600
SECONDARY_NE_QUAD_XY: 490686.53700 5323035.54000
SECONDARY_SE_QUAD_XY: 490675.26900 5316088.90200
SECONDARY_SW_QUAD_XY: 486012.90600 5316098.35100
RMSE_XY: 0.60000
IMAGE_SOURCE: BLACK AND WHITE FILM
SOURCE_IMAGE_ID: NAPP 9170 077
SOURCE_IMAGE_DATE: 1997 08 22
SOURCE_IMAGE_ID: NAPP 8372 081
SOURCE_IMAGE_DATE: 1995 07 08
SOURCE_DEM_DATE: 1969 00 00
AGENCY: WESTERN MAPPING CENTER (WMC)
PRODUCER: UNDEFINED
PRODUCTION_SYSTEM: GIS/MAGIC
COMPRESSION: UNDEFINED
STANDARD_VERSION: 1996 12
METADATA_DATE: 2000 06 02
DATA_FILE_SIZE: 40356168
BYTE_COUNT: 5336
