FILENAME: O4811162.SWS.1078166.tif
QUADRANGLE_NAME: KNEES
QUADRANT: SW
WEST_LONGITUDE: -111 22 30.00000
EAST_LONGITUDE: -111 18 45.00000
NORTH_LATITUDE: 48 3 45.00000
SOUTH_LATITUDE: 48 0 0.00000
PRODUCTION_DATE: 2000 5 4
RASTER_ORDER: LEFT_RIGHT/TOP_BOTTOM
BAND_ORGANIZATION: SINGLE FILE
BAND_CONTENT: BLACK&WHITE
BAND_CONTENT: UNDEFINED
BAND_CONTENT: UNDEFINED
BITS_PER_PIXEL: 8
SAMPLES_AND_LINES: 5354 7574
HORIZONTAL_DATUM: NAD83
HORIZONTAL_COORDINATE_SYSTEM: UTM
COORDINATE_ZONE: 12
HORIZONTAL_UNITS: METERS
HORIZONTAL_RESOLUTION: 1.00000
SECONDARY_HORIZONTAL_DATUM: NAD27
XY_ORIGIN: 471665.00000 5323615.00000
SECONDARY_XY_ORIGIN: 471724.92800 5323399.24900
NATION: US
NATION: "SCIENCE
STATE: MT
NW_QUAD_CORNER_XY: 472060.51100 5323314.89200
NE_QUAD_CORNER_XY: 476717.08800 5323294.10900
SE_QUAD_CORNERY_XY: 476688.91700 5316347.46700
SW_QUAD_CORNER_XY: 472026.70700 5316368.25400
SECONDARY_NW_QUAD_XY: 472059.63100 5323095.99900
SECONDARY_NE_QUAD_XY: 476716.35400 5323075.21600
SECONDARY_SE_QUAD_XY: 476688.18400 5316128.58800
SECONDARY_SW_QUAD_XY: 472025.82700 5316149.37500
RMSE_XY: 0.70000
IMAGE_SOURCE: BLACK AND WHITE FILM
SOURCE_IMAGE_ID: NAPP 9175 066
SOURCE_IMAGE_DATE: 1997 08 30
SOURCE_IMAGE_ID: NAPP 9175 131
SOURCE_IMAGE_DATE: 1997 08 30
SOURCE_IMAGE_ID: NAPP 8372 132
SOURCE_IMAGE_DATE: 1995 07 08
SOURCE_IMAGE_ID: NAPP 9175 063
SOURCE_IMAGE_DATE: 1997 08 30
SOURCE_DEM_DATE: 1969 00 00
AGENCY: WESTERN MAPPING CENTER (WMC)
PRODUCER: UNDEFINED
PRODUCTION_SYSTEM: GIS/MAGIC
COMPRESSION: UNDEFINED
STANDARD_VERSION: 1996 12
METADATA_DATE: 2000 06 02
DATA_FILE_SIZE: 40556550
BYTE_COUNT: 5354
