FILENAME: O4811161.SES.1078161.tif
QUADRANGLE_NAME: FARIS SCHOOL
QUADRANT: SE
WEST_LONGITUDE: -111 26 15.00000
EAST_LONGITUDE: -111 22 30.00000
NORTH_LATITUDE: 48 3 45.00000
SOUTH_LATITUDE: 48 0 0.00000
PRODUCTION_DATE: 2000 5 4
RASTER_ORDER: LEFT_RIGHT/TOP_BOTTOM
BAND_ORGANIZATION: SINGLE FILE
BAND_CONTENT: BLACK&WHITE
BAND_CONTENT: UNDEFINED
BAND_CONTENT: UNDEFINED
BITS_PER_PIXEL: 8
SAMPLES_AND_LINES: 5360 7578
HORIZONTAL_DATUM: NAD83
HORIZONTAL_COORDINATE_SYSTEM: UTM
COORDINATE_ZONE: 12
HORIZONTAL_UNITS: METERS
HORIZONTAL_RESOLUTION: 1.00000
SECONDARY_HORIZONTAL_DATUM: NAD27
XY_ORIGIN: 467002.00000 5323640.00000
SECONDARY_XY_ORIGIN: 467062.02200 5323424.21300
NATION: US
NATION: "SCIENCE
STATE: MT
NW_QUAD_CORNER_XY: 467403.93900 5323339.45200
NE_QUAD_CORNER_XY: 472060.51100 5323314.89200
SE_QUAD_CORNERY_XY: 472026.70700 5316368.25400
SW_QUAD_CORNER_XY: 467364.50000 5316392.82000
SECONDARY_NW_QUAD_XY: 467402.91200 5323120.56000
SECONDARY_NE_QUAD_XY: 472059.63100 5323095.99900
SECONDARY_SE_QUAD_XY: 472025.82700 5316149.37500
SECONDARY_SW_QUAD_XY: 467363.47300 5316173.94200
RMSE_XY: 1.40000
IMAGE_SOURCE: BLACK AND WHITE FILM
SOURCE_IMAGE_ID: NAPP 9175 131
SOURCE_IMAGE_DATE: 1997 08 30
SOURCE_DEM_DATE: 1969 00 00
AGENCY: WESTERN MAPPING CENTER (WMC)
PRODUCER: UNDEFINED
PRODUCTION_SYSTEM: GIS/MAGIC
COMPRESSION: UNDEFINED
STANDARD_VERSION: 1996 12
METADATA_DATE: 2000 06 02
DATA_FILE_SIZE: 40623440
BYTE_COUNT: 5360
