FILENAME: O4811161.SWS.1078162.tif
QUADRANGLE_NAME: FARIS SCHOOL
QUADRANT: SW
WEST_LONGITUDE: -111 30 0.00000
EAST_LONGITUDE: -111 26 15.00000
NORTH_LATITUDE: 48 3 45.00000
SOUTH_LATITUDE: 48 0 0.00000
PRODUCTION_DATE: 2000 5 4
RASTER_ORDER: LEFT_RIGHT/TOP_BOTTOM
BAND_ORGANIZATION: SINGLE FILE
BAND_CONTENT: BLACK&WHITE
BAND_CONTENT: UNDEFINED
BAND_CONTENT: UNDEFINED
BITS_PER_PIXEL: 8
SAMPLES_AND_LINES: 5365 7581
HORIZONTAL_DATUM: NAD83
HORIZONTAL_COORDINATE_SYSTEM: UTM
COORDINATE_ZONE: 12
HORIZONTAL_UNITS: METERS
HORIZONTAL_RESOLUTION: 1.00000
SECONDARY_HORIZONTAL_DATUM: NAD27
XY_ORIGIN: 462340.00000 5323668.00000
SECONDARY_XY_ORIGIN: 462400.11600 5323452.17600
NATION: US
NATION: "SCIENCE
STATE: MT
NW_QUAD_CORNER_XY: 462747.37000 5323367.79200
NE_QUAD_CORNER_XY: 467403.93900 5323339.45200
SE_QUAD_CORNERY_XY: 467364.50000 5316392.82000
SW_QUAD_CORNER_XY: 462702.29700 5316421.16600
SECONDARY_NW_QUAD_XY: 462746.19700 5323148.90100
SECONDARY_NE_QUAD_XY: 467402.91200 5323120.56000
SECONDARY_SE_QUAD_XY: 467363.47300 5316173.94200
SECONDARY_SW_QUAD_XY: 462701.12300 5316202.28900
RMSE_XY: 1.20000
IMAGE_SOURCE: BLACK AND WHITE FILM
SOURCE_IMAGE_ID: NAPP 11014 014
SOURCE_IMAGE_DATE: 1998 07 23
SOURCE_DEM_DATE: 1969 00 00
AGENCY: WESTERN MAPPING CENTER (WMC)
PRODUCER: UNDEFINED
PRODUCTION_SYSTEM: GIS/MAGIC
COMPRESSION: UNDEFINED
STANDARD_VERSION: 1996 12
METADATA_DATE: 2000 06 02
DATA_FILE_SIZE: 40677430
BYTE_COUNT: 5365
