FILENAME: O4811160.SWS.1078154.tif
QUADRANGLE_NAME: FOWLER COULEE SE
QUADRANT: SW
WEST_LONGITUDE: -111 37 30.00000
EAST_LONGITUDE: -111 33 45.00000
NORTH_LATITUDE: 48 3 45.00000
SOUTH_LATITUDE: 48 0 0.00000
PRODUCTION_DATE: 2000 5 3
RASTER_ORDER: LEFT_RIGHT/TOP_BOTTOM
BAND_ORGANIZATION: SINGLE FILE
BAND_CONTENT: BLACK&WHITE
BAND_CONTENT: UNDEFINED
BAND_CONTENT: UNDEFINED
BITS_PER_PIXEL: 8
SAMPLES_AND_LINES: 5377 7589
HORIZONTAL_DATUM: NAD83
HORIZONTAL_COORDINATE_SYSTEM: UTM
COORDINATE_ZONE: 12
HORIZONTAL_UNITS: METERS
HORIZONTAL_RESOLUTION: 1.00000
SECONDARY_HORIZONTAL_DATUM: NAD27
XY_ORIGIN: 453015.00000 5323736.00000
SECONDARY_XY_ORIGIN: 453075.39800 5323520.25500
NATION: US
NATION: "SCIENCE
STATE: MT
NW_QUAD_CORNER_XY: 453434.24800 5323435.80800
NE_QUAD_CORNER_XY: 458090.80700 5323399.91000
SE_QUAD_CORNERY_XY: 458040.09900 5316453.29200
SW_QUAD_CORNER_XY: 453377.90600 5316489.19700
SECONDARY_NW_QUAD_XY: 453432.78100 5323216.91900
SECONDARY_NE_QUAD_XY: 458089.48600 5323181.02000
SECONDARY_SE_QUAD_XY: 458038.77800 5316234.41600
SECONDARY_SW_QUAD_XY: 453376.43900 5316270.32300
RMSE_XY: 1.10000
IMAGE_SOURCE: BLACK AND WHITE FILM
SOURCE_IMAGE_ID: NAPP 9176 078
SOURCE_IMAGE_DATE: 1997 08 30
SOURCE_IMAGE_ID: NAPP 9176 079
SOURCE_IMAGE_DATE: 1997 08 30
SOURCE_IMAGE_ID: NAPP 9176 080
SOURCE_IMAGE_DATE: 1997 08 30
SOURCE_DEM_DATE: 1965 00 00
AGENCY: WESTERN MAPPING CENTER (WMC)
PRODUCER: UNDEFINED
PRODUCTION_SYSTEM: GIS/MAGIC
COMPRESSION: UNDEFINED
STANDARD_VERSION: 1996 12
METADATA_DATE: 2000 06 02
DATA_FILE_SIZE: 40811430
BYTE_COUNT: 5377
