FILENAME: O4811157.NWS.1078128.tif
QUADRANGLE_NAME: CONRAD SW
QUADRANT: NW
WEST_LONGITUDE: -112 0 0.00000
EAST_LONGITUDE: -111 56 15.00000
NORTH_LATITUDE: 48 7 30.00000
SOUTH_LATITUDE: 48 3 45.00000
PRODUCTION_DATE: 2000 5 3
RASTER_ORDER: LEFT_RIGHT/TOP_BOTTOM
BAND_ORGANIZATION: SINGLE FILE
BAND_CONTENT: BLACK&WHITE
BAND_CONTENT: UNDEFINED
BAND_CONTENT: UNDEFINED
BITS_PER_PIXEL: 8
SAMPLES_AND_LINES: 5408 7612
HORIZONTAL_DATUM: NAD83
HORIZONTAL_COORDINATE_SYSTEM: UTM
COORDINATE_ZONE: 12
HORIZONTAL_UNITS: METERS
HORIZONTAL_RESOLUTION: 1.00000
SECONDARY_HORIZONTAL_DATUM: NAD27
XY_ORIGIN: 425130.00000 5330978.00000
SECONDARY_XY_ORIGIN: 425191.24200 5330761.64900
NATION: US
NATION: "SCIENCE
STATE: MT
NW_QUAD_CORNER_XY: 425585.28200 5330677.16800
NE_QUAD_CORNER_XY: 430236.15500 5330618.61000
SE_QUAD_CORNERY_XY: 430151.55500 5323671.98000
SW_QUAD_CORNER_XY: 425495.04000 5323730.55200
SECONDARY_NW_QUAD_XY: 425582.93400 5330458.27500
SECONDARY_NE_QUAD_XY: 430233.95400 5330399.71500
SECONDARY_SE_QUAD_XY: 430149.35400 5323453.09800
SECONDARY_SW_QUAD_XY: 425492.69200 5323511.67200
RMSE_XY: 0.90000
IMAGE_SOURCE: BLACK AND WHITE FILM
SOURCE_IMAGE_ID: NAPP 9178 106
SOURCE_IMAGE_DATE: 1997 09 04
SOURCE_DEM_DATE: 1965 00 00
AGENCY: WESTERN MAPPING CENTER (WMC)
PRODUCER: UNDEFINED
PRODUCTION_SYSTEM: GIS/MAGIC
COMPRESSION: UNDEFINED
STANDARD_VERSION: 1996 12
METADATA_DATE: 2000 06 02
DATA_FILE_SIZE: 41171104
BYTE_COUNT: 5408
