FILENAME: O4811156.NES.1080783.tif
QUADRANGLE_NAME: UPHILL CREEK
QUADRANT: NE
WEST_LONGITUDE: -111 3 45.00000
EAST_LONGITUDE: -111 0 0.00000
NORTH_LATITUDE: 48 15 0.00000
SOUTH_LATITUDE: 48 11 15.00000
PRODUCTION_DATE: 2000 5 24
RASTER_ORDER: LEFT_RIGHT/TOP_BOTTOM
BAND_ORGANIZATION: SINGLE FILE
BAND_CONTENT: BLACK&WHITE
BAND_CONTENT: UNDEFINED
BAND_CONTENT: UNDEFINED
BITS_PER_PIXEL: 8
SAMPLES_AND_LINES: 5307 7555
HORIZONTAL_DATUM: NAD83
HORIZONTAL_COORDINATE_SYSTEM: UTM
COORDINATE_ZONE: 12
HORIZONTAL_UNITS: METERS
HORIZONTAL_RESOLUTION: 1.00000
SECONDARY_HORIZONTAL_DATUM: NAD27
XY_ORIGIN: 494994.00000 5344390.00000
SECONDARY_XY_ORIGIN: 495053.54500 5344173.21500
NATION: US
NATION: "SCIENCE
STATE: MT
NW_QUAD_CORNER_XY: 495360.35100 5344089.18100
NE_QUAD_CORNER_XY: 500000.00000 5344087.29300
SE_QUAD_CORNERY_XY: 500000.00000 5337140.41200
SW_QUAD_CORNER_XY: 495354.70000 5337142.30000
SECONDARY_NW_QUAD_XY: 495360.20400 5343870.24800
SECONDARY_NE_QUAD_XY: 500000.00000 5343868.36000
SECONDARY_SE_QUAD_XY: 500000.00000 5336921.49100
SECONDARY_SW_QUAD_XY: 495354.55300 5336923.37900
RMSE_XY: 0.80000
IMAGE_SOURCE: BLACK AND WHITE FILM
SOURCE_IMAGE_ID: NAPP 9169 077
SOURCE_IMAGE_DATE: 1997 07 25
SOURCE_IMAGE_ID: NAPP 9169 066
SOURCE_IMAGE_DATE: 1997 07 25
SOURCE_DEM_DATE: 1969 00 00
AGENCY: WESTERN MAPPING CENTER (WMC)
PRODUCER: UNDEFINED
PRODUCTION_SYSTEM: GIS/MAGIC
COMPRESSION: UNDEFINED
STANDARD_VERSION: 1996 12
METADATA_DATE: 2000 06 13
DATA_FILE_SIZE: 40099692
BYTE_COUNT: 5307
