FILENAME: O4811155.NES.1078186.tif
QUADRANGLE_NAME: CARLSON COULEE
QUADRANT: NE
WEST_LONGITUDE: -111 11 15.00000
EAST_LONGITUDE: -111 7 30.00000
NORTH_LATITUDE: 48 15 0.00000
SOUTH_LATITUDE: 48 11 15.00000
PRODUCTION_DATE: 2000 5 4
RASTER_ORDER: LEFT_RIGHT/TOP_BOTTOM
BAND_ORGANIZATION: SINGLE FILE
BAND_CONTENT: BLACK&WHITE
BAND_CONTENT: UNDEFINED
BAND_CONTENT: UNDEFINED
BITS_PER_PIXEL: 8
SAMPLES_AND_LINES: 5320 7562
HORIZONTAL_DATUM: NAD83
HORIZONTAL_COORDINATE_SYSTEM: UTM
COORDINATE_ZONE: 12
HORIZONTAL_UNITS: METERS
HORIZONTAL_RESOLUTION: 1.00000
SECONDARY_HORIZONTAL_DATUM: NAD27
XY_ORIGIN: 485702.00000 5344405.00000
SECONDARY_XY_ORIGIN: 485761.84100 5344188.09100
NATION: US
NATION: "SCIENCE
STATE: MT
NW_QUAD_CORNER_XY: 486081.05500 5344104.28400
NE_QUAD_CORNER_XY: 490720.70200 5344094.84500
SE_QUAD_CORNERY_XY: 490709.40100 5337147.96500
SW_QUAD_CORNER_XY: 486064.10200 5337157.40700
SECONDARY_NW_QUAD_XY: 486080.61500 5343885.35200
SECONDARY_NE_QUAD_XY: 490720.40900 5343875.91200
SECONDARY_SE_QUAD_XY: 490709.10700 5336929.04400
SECONDARY_SW_QUAD_XY: 486063.66200 5336938.48700
RMSE_XY: 1.40000
IMAGE_SOURCE: BLACK AND WHITE FILM
SOURCE_IMAGE_ID: NAPP 9170 071
SOURCE_IMAGE_DATE: 1997 08 22
SOURCE_IMAGE_ID: NAPP 9170 073
SOURCE_IMAGE_DATE: 1997 08 22
SOURCE_IMAGE_ID: NAPP 9170 072
SOURCE_IMAGE_DATE: 1997 08 22
SOURCE_DEM_DATE: 1969 00 00
AGENCY: WESTERN MAPPING CENTER (WMC)
PRODUCER: UNDEFINED
PRODUCTION_SYSTEM: GIS/MAGIC
COMPRESSION: UNDEFINED
STANDARD_VERSION: 1996 12
METADATA_DATE: 2000 06 02
DATA_FILE_SIZE: 40235160
BYTE_COUNT: 5320
