FILENAME: O4811155.NWS.1078187.tif
QUADRANGLE_NAME: CARLSON COULEE
QUADRANT: NW
WEST_LONGITUDE: -111 15 0.00000
EAST_LONGITUDE: -111 11 15.00000
NORTH_LATITUDE: 48 15 0.00000
SOUTH_LATITUDE: 48 11 15.00000
PRODUCTION_DATE: 2000 5 4
RASTER_ORDER: LEFT_RIGHT/TOP_BOTTOM
BAND_ORGANIZATION: SINGLE FILE
BAND_CONTENT: BLACK&WHITE
BAND_CONTENT: UNDEFINED
BAND_CONTENT: UNDEFINED
BITS_PER_PIXEL: 8
SAMPLES_AND_LINES: 5326 7566
HORIZONTAL_DATUM: NAD83
HORIZONTAL_COORDINATE_SYSTEM: UTM
COORDINATE_ZONE: 12
HORIZONTAL_UNITS: METERS
HORIZONTAL_RESOLUTION: 1.00000
SECONDARY_HORIZONTAL_DATUM: NAD27
XY_ORIGIN: 481057.00000 5344418.00000
SECONDARY_XY_ORIGIN: 481116.99000 5344201.02900
NATION: US
NATION: "SCIENCE
STATE: MT
NW_QUAD_CORNER_XY: 481441.40900 5344117.50000
NE_QUAD_CORNER_XY: 486081.05500 5344104.28400
SE_QUAD_CORNERY_XY: 486064.10200 5337157.40700
SW_QUAD_CORNER_XY: 481418.80600 5337170.62600
SECONDARY_NW_QUAD_XY: 481440.82200 5343898.56800
SECONDARY_NE_QUAD_XY: 486080.61500 5343885.35200
SECONDARY_SE_QUAD_XY: 486063.66200 5336938.48700
SECONDARY_SW_QUAD_XY: 481418.21900 5336951.70600
RMSE_XY: 0.80000
IMAGE_SOURCE: BLACK AND WHITE FILM
SOURCE_IMAGE_ID: NAPP 9170 018
SOURCE_IMAGE_DATE: 1997 08 22
SOURCE_IMAGE_ID: NAPP 9170 017
SOURCE_IMAGE_DATE: 1997 08 22
SOURCE_DEM_DATE: 1969 00 00
AGENCY: WESTERN MAPPING CENTER (WMC)
PRODUCER: UNDEFINED
PRODUCTION_SYSTEM: GIS/MAGIC
COMPRESSION: UNDEFINED
STANDARD_VERSION: 1996 12
METADATA_DATE: 2000 06 02
DATA_FILE_SIZE: 40301842
BYTE_COUNT: 5326
