FILENAME: O4811154.NES.958527.tif
QUADRANGLE_NAME: KNEES NE
QUADRANT: NE
WEST_LONGITUDE: -111 18 45.00000
EAST_LONGITUDE: -111 15 0.00000
NORTH_LATITUDE: 48 15 0.00000
SOUTH_LATITUDE: 48 11 15.00000
PRODUCTION_DATE: 1999 1 29
RASTER_ORDER: LEFT_RIGHT/TOP_BOTTOM
BAND_ORGANIZATION: SINGLE FILE
BAND_CONTENT: BLACK&WHITE
BAND_CONTENT: UNDEFINED
BAND_CONTENT: UNDEFINED
BITS_PER_PIXEL: 8
SAMPLES_AND_LINES: 5328 7569
HORIZONTAL_DATUM: NAD83
HORIZONTAL_COORDINATE_SYSTEM: UTM
COORDINATE_ZONE: 12
HORIZONTAL_UNITS: METERS
HORIZONTAL_RESOLUTION: 1.00000
SECONDARY_HORIZONTAL_DATUM: NAD27
XY_ORIGIN: 476412.00000 5344435.00000
SECONDARY_XY_ORIGIN: 476472.09800 5344218.02400
NATION: US
STATE: MT
NW_QUAD_CORNER_XY: 476801.76600 5344134.49200
NE_QUAD_CORNER_XY: 481441.40900 5344117.50100
SE_QUAD_CORNERY_XY: 481418.80600 5337170.62700
SW_QUAD_CORNER_XY: 476773.51200 5337187.62200
SECONDARY_NW_QUAD_XY: 476801.03200 5343915.56000
SECONDARY_NE_QUAD_XY: 481440.82200 5343898.56800
SECONDARY_SE_QUAD_XY: 481418.21900 5336951.70600
SECONDARY_SW_QUAD_XY: 476772.77800 5336968.70200
RMSE_XY: 1.00000
IMAGE_SOURCE: BLACK AND WHITE FILM
SOURCE_IMAGE_ID: NAPP 9175 057
SOURCE_IMAGE_DATE: 1997 8 30
SOURCE_DEM_DATE: 1969 0 0
AGENCY: WESTERN MAPPING CENTER (WMC)
PRODUCER: ROCKY MOUNTAIN MAPPING CENTER (RMMC)
PRODUCTION_SYSTEM: DV2.6.3 10/9OV2.4 5/95
COMPRESSION: UNDEFINED
STANDARD_VERSION: 1996 12
METADATA_DATE: 1999 2 1
DATA_FILE_SIZE: 40332960
BYTE_COUNT: 5328
