FILENAME: O4811154.SWS.958530.tif
QUADRANGLE_NAME: KNEES NE
QUADRANT: SW
WEST_LONGITUDE: -111 22 30.00000
EAST_LONGITUDE: -111 18 45.00000
NORTH_LATITUDE: 48 11 15.00000
SOUTH_LATITUDE: 48 7 30.00000
PRODUCTION_DATE: 1999 1 29
RASTER_ORDER: LEFT_RIGHT/TOP_BOTTOM
BAND_ORGANIZATION: SINGLE FILE
BAND_CONTENT: BLACK&WHITE
BAND_CONTENT: UNDEFINED
BAND_CONTENT: UNDEFINED
BITS_PER_PIXEL: 8
SAMPLES_AND_LINES: 5344 7573
HORIZONTAL_DATUM: NAD83
HORIZONTAL_COORDINATE_SYSTEM: UTM
COORDINATE_ZONE: 12
HORIZONTAL_UNITS: METERS
HORIZONTAL_RESOLUTION: 1.00000
SECONDARY_HORIZONTAL_DATUM: NAD27
XY_ORIGIN: 471732.00000 5337509.00000
SECONDARY_XY_ORIGIN: 471792.12400 5337292.41800
NATION: US
STATE: MT
NW_QUAD_CORNER_XY: 472128.22100 5337208.39500
NE_QUAD_CORNER_XY: 476773.51200 5337187.62200
SE_QUAD_CORNERY_XY: 476745.28600 5330240.82800
SW_QUAD_CORNER_XY: 472094.35000 5330261.60600
SECONDARY_NW_QUAD_XY: 472127.34100 5336989.47600
SECONDARY_NE_QUAD_XY: 476772.77800 5336968.70200
SECONDARY_SE_QUAD_XY: 476744.55200 5330021.92100
SECONDARY_SW_QUAD_XY: 472093.46900 5330042.69900
RMSE_XY: 0.80000
IMAGE_SOURCE: BLACK AND WHITE FILM
SOURCE_IMAGE_ID: NAPP 9175 070
SOURCE_IMAGE_DATE: 1997 8 30
SOURCE_DEM_DATE: 1960 0 0
AGENCY: WESTERN MAPPING CENTER (WMC)
PRODUCER: ROCKY MOUNTAIN MAPPING CENTER (RMMC)
PRODUCTION_SYSTEM: DV2.6.3 10/9OV2.4 5/95
COMPRESSION: UNDEFINED
STANDARD_VERSION: 1996 12
METADATA_DATE: 1999 2 1
DATA_FILE_SIZE: 40475456
BYTE_COUNT: 5344
